Workbook

Sheet ТГ зв
H1: Додаток 2
H2: до листа департаменту економіки облдержадміністрації
H3: від_______№__________
A4: Інформація про заплановані закупівлі робіт, послуг, товарів по територіальним громадам Донецької області
H5: станом на 27.08.2026
A6: № п/п | B6: Назва району, територіальної громади Замовник | C6: Напрямок використання коштів | D6: Вид закупівлі (робота, послуга, товар) | E6: Предмет закупівлі | F6: Дата планового оголошення | G6: Запланована сума закупівлі, | H6: Джерело фінансування закупівлі | I6: Плануємий постачальник (за наявності) | J6: Код ЄДРПОУ постачальника | K6: Інформація щодо товару | O6: Посилання на закупівлю в електронній системі | P6: Закупівлі на оборонні роботи, так
K7: Одиниця виміру (штуки, тонни, кілограми, куб. м, пог. м тощо) | L7: Кількість | M7: Вартість за одиницю з урахуванням ПДВ, грн | N7: Короткий опис товару
E8: (назва, код) | G8: тис. грн
A9: 1 | B9: 2 | C9: 3 | D9: 4 | E9: 5 | F9: 6 | G9: 7 | H9: 8 | I9: 9 | J9: 10 | K9: 11 | L9: 12 | M9: 13 | N9: 14 | O9: 15 | P9: 16
B10: Донецька область | G10: =SUM(G13:G936) -> 1741085.5
B11: Бахмутський район
B12: Бахмутська
A13: 1 | B13: КНП "Бахмутська лікарня інтенсивного лікування м.Бахмут" | C13: охорона здоров'я | D13: послуга | E13: ДК 021:2015: 90520000-8 — Послуги у сфері поводження з радіоактивними, токсичними, медичними та небезпечними відходами | F13: 46029 | G13: 322.2 | H13: НСЗУ | I13: ТОВ "НВК "УКРЕКОПРОМ" | J13: 39624900 | K13: кг | L13: 6430 | N13: Послуги у сфері поводження з радіоактивними, токсичними, медичними та небезпечними відходами | O13: https://zakupivli.pro/gov/tenders/ua-2026-01-07-004504-a/lot-a127d908e7b643c8b338ab6345bf50e8
A14: 2 | B14: КНП "Бахмутська лікарня інтенсивного лікування м.Бахмут" | C14: охорона здоров'я | D14: товар | E14: ДК 021:2015 «33600000-6 - Фармацевтична продукція» (Наркотичні та психотропні препарати) | F14: 46030 | G14: 305 | H14: НСЗУ | I14: ДКП "Фармація" | J14: 1976625 | K14: ампули | L14: 2260 | N14: Промедол розчин для ін'єкцій, морфін, розчин для ін`єкцій, фентаніл, розчин для ін'єкцій, діазепам, розчин для ін`єкцій | O14: https://zakupivli.pro/gov/tenders/ua-2026-01-08-004985-a
A15: 3 | B15: КНП "Бахмутська лікарня інтенсивного лікування м.Бахмут" | C15: паливно-мастильні матеріали | D15: товар | E15: ДК 021:2015 код 09130000-9: Нафта і дистиляти (Дизельне паливо талони) | F15: 46031 | G15: 274.5 | H15: НСЗУ | I15: ПП "ОККО-СЕРВІС" | J15: 44838860 | K15: літри | L15: 5000 | N15: Дизельне паливо талони | O15: https://zakupivli.pro/gov/tenders/ua-2026-01-09-006232-a
A16: 4 | B16: КНП "Бахмутська лікарня інтенсивного лікування м.Бахмут" | C16: охорона здоров'я | D16: товар | E16: ДК 021:2015:33600000-6 - "Фармацевтична продукція" | F16: 46034 | G16: 1886.539 | H16: НСЗУ | I16: ТОВ "МВК ФАРМ" | J16: 44990084 | K16: штуки | L16: 38640 | N16: Пропофол, емульсія, суксаметоній, розчин для ін'єкцій, лідокаїн, розчин для ін`єкцій, дексаметазон,розчин для ін'єкцій, спирт етиловий, еноксапарин натрію, натрію хлорид, декскетопрофен розчин для ін'єкцій, вода для ін'єкцій, інше | O16: https://zakupivli.pro/gov/tenders/ua-2026-01-12-004767-a
A17: 5 | B17: КНП "Бахмутська лікарня інтенсивного лікування м.Бахмут" | C17: охорона здоров'я | D17: товар | E17: ДК 021:2015: 33600000-6 Фармацевтична продукція | F17: 46042 | G17: 709.731 | H17: НСЗУ | I17: ТОВ "АТ-ФАРМА" | J17: 42210926 | K17: штуки | L17: 7600 | N17: Гозерелін, бікалутамід, летрозол, ібандронова кислота | O17: https://zakupivli.pro/gov/tenders/ua-2026-01-20-010523-a
A18: 6 | B18: КНП "Бахмутська лікарня інтенсивного лікування м.Бахмут" | C18: охорона здоров'я | D18: товар | E18: ДК 021:2015: 33140000-3 Медичні матеріали | F18: 46045 | G18: 248.347 | H18: НСЗУ | I18: ТОВ «ЄВРО СТАНДАРТГРУП» | J18: 45954309 | K18: штуки | L18: 10250 | N18: Серветка медична марлева стерильна, бинт марлевий, відріз марлевий, бинт фіксуючий, пластир стерильний, пластир нестерильний | O18: https://zakupivli.pro/gov/tenders/ua-2026-01-23-001958-a
A19: 7 | B19: КНП "Бахмутська лікарня інтенсивного лікування м.Бахмут" | C19: охорона здоров'я | D19: товар | E19: ДК 021:2015: 33140000-3 Медичні матеріали | F19: 46045 | G19: 297.2 | H19: НСЗУ | I19: ФОП Багрій Антон Євгенович | J19: 3241909818 | K19: штуки | L19: 12050 | N19: Комплект покриття хірургічний, катетер внутрішньовенний, шпатель отоларингологічний, маска киснева, маски медичні, сільфон, набір гінекологічний | O19: https://zakupivli.pro/gov/tenders/ua-2026-01-23-001293-a
A20: 8 | B20: КНП "Бахмутська лікарня інтенсивного лікування м.Бахмут" | C20: охорона здоров'я | D20: товар | E20: ДК 021:2015: 33190000-8 Медичне обладнання та вироби медичного призначення різні | F20: 46045 | G20: 453.894 | H20: НСЗУ | I20: ТОВ «ЄВРО СТАНДАРТГРУП» | J20: 45954309 | K20: штуки | L20: 31250 | N20: Система ПК (трансфузійна), системи для переливання крові та інфузійних розчинів, система ПК (інфузійна), халат хірургічний | O20: https://zakupivli.pro/gov/tenders/ua-2026-01-23-015042-a
A21: 9 | B21: КНП "Бахмутська лікарня інтенсивного лікування м.Бахмут" | C21: охорона здоров'я | D21: товар | E21: ДК 021:2015: 33140000-3 Медичні матеріали (Медичні матеріали нехімічні та гематологічні одноразового застосування | F21: 46045 | G21: 244.09 | H21: НСЗУ | I21: ФОП ТРОФИМЕНКО ЛАРИСА ГРИГОРІВНА | J21: 2374265941 | K21: штуки | L21: 75330 | N21: Бахіли медичні, шапочка медична, подовжувач для інфузійних насосів, пробірка вакуумна | O21: https://zakupivli.pro/gov/tenders/ua-2026-01-23-016460-a
A22: 10 | B22: КНП "Бахмутська лікарня інтенсивного лікування м.Бахмут" | C22: охорона здоров'я | D22: товар | E22: ДК 021:2015: 33140000-3 Медичні матеріали | F22: 46045 | G22: 214.5 | H22: НСЗУ | I22: ТОВ "СТЕЛАР МЕД" (договір на суму 191,316 тис.грн) | J22: 45379379 | K22: пари | L22: 44900 | N22: Рукавички медичні хірургічні | O22: https://zakupivli.pro/gov/tenders/ua-2026-01-23-017266-a
A23: 11 | B23: КНП "Бахмутська лікарня інтенсивного лікування м.Бахмут" | C23: охорона здоров'я | D23: товар | E23: ДК 021:2015: 33600000-6 — Фармацевтична продукція | F23: 46062 | G23: 577.886 | H23: НСЗУ | I23: ФОП "МЕЛЬНИК ТЕТЯНА ВОЛОДИМИРІВНА" | J23: 2586900647 | K23: паковання, набір, флакон | L23: 323 | N23: АПТЧ-тест, тромбо-тест, ПЧ-тест, фібриноген-тест, РФ - латекс-тест, калій СпЛ 100, хлориди СпЛ 120, кальцій СпЛ 100, натрій СпЛ 50, креатинін-кін.СпЛ 500, сечовина СпЛ 300, холестерин СпЛ 500, сечова кислота СпЛ 100 та інше | O23: https://zakupivli.pro/gov/tenders/ua-2026-02-09-008065-a
A24: 12 | B24: КНП "Бахмутська лікарня інтенсивного лікування м.Бахмут" | C24: охорона здоров'я | D24: товар | E24: ДК 021:2015: 33140000-3 Медичні матеріали | F24: 46064 | G24: 480.054 | H24: НСЗУ | I24: ФОП Якубовський Сергій Володимирович | J24: 2655102017 | K24: штуки | L24: 2429 | N24: Нитка хірургічна стерильна з голкою, нитка хірургічна стерильна без голки | O24: https://zakupivli.pro/gov/tenders/ua-2026-02-11-012470-a
... A26: 14 | B26: КНП "Бахмутська лікарня інтенсивного лікування м.Бахмут" | C26: охорона здоров'я | D26: товар | E26: ДК 021:2015: 33600000-6 Фармацевтична продукція | F26: 46092 | G26: 236.179 | H26: НСЗУ | I26: ТОВ "АФАРМА" | J26: 45354329 | K26: контейнер, паковання | L26: 1550 | N26: Глюкози розчин для інфузій 5 %, декскетопрофен розчин для ін'єкцій, цефтриаксон,порошок для ін'єкцій, анти-D імуноглобулін людини, еноксапарин натрію, севофлуран розчин для інгаляцій | O26: https://zakupivli.pro/gov/tenders/ua-2026-03-11-002919-a
A27: 15 | B27: Бахмутська міська рада | C27: господарська діяльність | D27: товар | E27: ДК 021: 2015:31430000-9 Електричні акумулятори | F27: 46094 | G27: 240.3 | H27: місцевий бюджет | I27: ТОВ «КУБІК ГРУП» | J27: 44554976 | K27: штуки | L27: 9 | M27: 26700 | N27: зарядні станції | O27: https://zakupivli.pro/gov/tenders/ua-2026-03-13-007134-a
A28: 16 | B28: Управління соціального захисту населення Бахмутської міської ради | C28: оздоровлення | D28: послуга | E28: Послуги з відпочинку дітей в дитячих закладах оздоровлення та відпочинку, що містяться в Державному реєстрі майнових об’єктів оздоровлення та відпочинку дітей код за ДК 021:2015 - 55240000-4 — Послуги центрів і будинків відпочинку | F28: 46132 | G28: 1344 | H28: місцевий бюджет | I28: ТОВ "ДИТЯЧИЙ ЗАКЛАД САНАТОРНОГО ТИПУ "ДРІМ КЕМП "КАРПАТИ" | J28: 45345623 | K28: послуга | L28: 50 | M28: 26880 | N28: Послуги з відпочинку дітей в дитячих закладах оздоровлення та відпочинку | O28: https://prozorro.gov.ua/uk/tender/UA-2026-04-20-007184-a
A29: 17 | B29: КНП "Бахмутська лікарня інтенсивного лікування м.Бахмут" | C29: охорона здоров'я | D29: товар | E29: ДК 021:2015:33600000-6 "Фармацевтична продукція" (Наркотичні та психотропні препарати) | F29: 46195 | G29: 329.086 | H29: НСЗУ | I29: ДКП "Фармація" | J29: 1976625 | K29: штуки | L29: 2720 | N29: Лікарські засоби для лікування хвороб нервової системи та захворювань органів чуття (діазепам, розчин для ін`єкцій, фентаніл, розчин для ін'єкцій, морфін, розчин для ін`єкцій) | O29: https://zakupivli.pro/gov/tenders/ua-2026-06-22-007384-a
A30: 18 | B30: КНП "Бахмутська лікарня інтенсивного лікування м.Бахмут" | C30: охорона здоров'я | D30: товар | E30: ДК 021:2015:33600000-6 - "Фармацевтична продукція" (Лікарські засоби) | F30: 46202 | G30: 498.095 | H30: НСЗУ, власні кошти | I30: ТОВ "МВК ФАРМ" | J30: 44990084 | K30: штуки | L30: 6427 | N30: Лікарські засоби (дексаметазон,розчин для ін'єкцій, парацетамол розчин для інфузій, декскетопрофен розчин для ін'єкцій, атропіну сульфат розчин для ін'єкцій, транексамова кислота розчин для ін'єкцій, омепразол, глюкози розчин для інфузій, цефепім, хлоргексидин, натрію хлорид та інше) | O30: https://zakupivli.pro/gov/tenders/ua-2026-06-29-001416-a
A31: 19 | B31: Управління соціального захисту населення Бахмутської міської ради | C31: оздоровлення | D31: послуга | E31: Послуги з відпочинку дітей в дитячих закладах оздоровлення та відпочинку, що містяться в Державному реєстрі майнових об’єктів оздоровлення та відпочинку дітей код за ДК 021:2015 - 55240000-4 — Послуги центрів і будинків відпочинку | F31: 46232 | G31: 548.8 | H31: місцевий бюджет | I31: ТОВ "АГРОТРАНСГРУПА" | J31: 43247653 | K31: послуга | L31: 20 | M31: 27440 | N31: Послуги з відпочинку дітей в дитячих закладах оздоровлення та відпочинку | O31: UA-2026-07-29-008450-a
A32: 20 | B32: КНП "БЛІЛ м. Бахмут" | C32: послуги з харчування | D32: послуга | E32: ДК 021:2015: 55520000-1 Кейтерингові послуги (послуги з постачання готової їжі /продукції для харчування пацієнтів) | F32: 46237 | G32: 250 | H32: НСЗУ | I32: ПП КАФЕ "ВІКТОР" | J32: 35115431 | K32: послуга | L32: 1000 | M32: 250 | N32: Послуги по забезпеченню харчуванням стаціонарних хворих, які перебувають у відділенні Комунального некомерційного підприємства «Багатопрофільна лікарня інтенсивного лікування м.Бахмут» | O32: https://zakupivli.pro/gov/tenders/ua-2026-08-20-007897-a
A33: 21 | B33: КНП "БЛІЛ м. Бахмут" | C33: охорона здоров'я | D33: товар | E33: ДК 021:2015: 33160000-9 «Устаткування для операційних блоків» (Набір стерильних трубок для помпи; Оптоволоконний кабель, набір) | F33: 46254 | G33: 204.5 | H33: НСЗУ | K33: штуки | L33: 21 | N33: Набір стерильних трубок для помпи, оптоволоконний кабель, набір | O33: https://zakupivli.pro/gov/tenders/ua-2026-08-20-002667-a/lot-62dddeaf58854591a16e8b112b9fcad0
B34: Званівська
A35: 1 | B35: Званівська сільська рада | C35: паливно-мастильні матеріали | D35: товар | E35: ДК 021:2015: 09130000-9 Нафта і дистиляти | F35: 46055 | G35: 360 | H35: місцевий бюджет | I35: ТОВ «Укрпетролцентр» | J35: 43699122 | K35: послуга | L35: 6000 | M35: 60 | N35: Дизельне паливо | O35: https://prozorro.gov.ua/tender/UA-2026-02-02-006506-a | P35: так
A36: 2 | B36: Званівська сільська рада | C36: транспорт | D36: послуга | E36: ДК 021:2015 - 50110000-9 Послуги з поточного ремонту і технічного обслуговування мототранспортних засобів і супутнього обладнання | F36: 46063 | G36: 470.672 | H36: місцевий бюджет | I36: ТОВ "СТАНДАРТ СТРОЙ МИР" | J36: 43607466 | K36: послуга | L36: 44 | N36: Послуги з поточного ремонту і технічного обслуговування мототранспортних засобів і супутнього обладнання | O36: https://prozorro.gov.ua/tender/UA-2026-02-10-004213-a | P36: так
A37: 3 | B37: Званівська сільська рада | C37: паливно-мастильні матеріали | D37: товар | E37: ДК 021:2015: 09130000-9 Нафта і дистиляти | F37: 46133 | G37: 295 | H37: місцевий бюджет | I37: ТОВ "Маршал-Кард" | J37: 44793228 | K37: літри | L37: 3450 | M37: 85.5 | N37: Дизельне паливо | O37: https://prozorro.gov.ua/tender/UA-2026-04-21-007201-a | P37: так
A38: 4 | B38: Званівська сільська рада | C38: паливно-мастильні матеріали | D38: товар | E38: ДК 021:2015: 09130000-9 Нафта і дистиляти | F38: 46231 | G38: 308 | H38: місцевий бюджет | I38: ТОВ «Укрпетролцентр». | J38: 43699122 | K38: літри | L38: 3500 | M38: 87.66 | N38: Дизельне паливо | O38: https://prozorro.gov.ua/tender/UA-2026-07-28-005841-a | P38: так
B39: Світлодарська
A40: 1 | B40: Світлодарська міська військова адміністрація Бахмутського району Донецької області | C40: оздоровлення | D40: послуга | E40: 55240000-4 — Послуги центрів і будинків відпочинку | F40: 46126 | G40: 1266.76 | H40: місцевий бюджет | I40: ТОВ "АГРОТРАНСГРУПА" | J40: 43247653 | K40: послуга | L40: 40 | M40: 31.5 | N40: Послуги з оздоровлення і відпочинку дітей, які потребують особливої уваги та підтримки в дитячих закладах, що містяться в Державному реєстрі майнових об’єктів оздоровлення та відпочинку дітей, розташованих в Закарпатській області, в населених пунктах, яким відповідно до Закону України “Про статус гірських населених пунктів в Україні” надається статус гірських (путівки) | O40: https://prozorro.gov.ua/uk/plan/UA-P-2026-04-14-000486-a
B41: Сіверська
A42: 1 | B42: Сіверська міська рада 04053097 | C42: інші | D42: послуга | E42: Послуги з підтримки маршрутизатора, ДК 021:2015: 72250000-2 Послуги, пов’язані із системами та підтримкою | F42: 46033 | G42: 346.6 | H42: місцевий бюджет | I42: ТОВ "ДІДЖИТАЛ ПАРТНЕРС" | J42: 43683809 | K42: послуга | L42: 48 | N42: Послуги з підтримки маршрутизатора в кількості 4 шт | O42: UA-P-2026-01-11-000100-a
A43: 2 | B43: Сіверське МСКП 32714284 | C43: транспорт | D43: послуга | E43: Послуги з ремонту та технічного обслуговування транспортного засобу (спецтехніки) екскаватора JCB-4CX (ДК 021:2015:50530000-9 «Послуги з ремонту і технічного обслуговування техніки») | F43: 46038 | G43: 291.3 | H43: місцевий бюджет | I43: ТОВ "Армор Кар" | J43: 45438529 | K43: послуга | L43: 7 | N43: Послуги з ремонту та технічного обслуговування транспортного засобу (спецтехніки) екскаватора JCB-4CX | O43: UA-2026-01-16-001214-a
A44: 3 | B44: Сіверське МСКП 32714284 | C44: транспорт | D44: послуга | E44: Послуги з ремонту та технічного обслуговування транспортного засобу (спецтехніки) екскаватора JCB JC 145 W MON (ДК 021:2015:50530000-9 «Послуги з ремонту і технічного обслуговування техніки») | F44: 46058 | G44: 732 | H44: місцевий бюджет | I44: ТОВ "Армор Кар" | J44: 45438529 | K44: послуга | L44: 5 | N44: Послуги з ремонту та технічного обслуговування транспортного засобу (спецтехніки) екскаватора JCB JC 145 W MON | O44: UA-2026-02-05-002064-a
A45: 4 | B45: Сіверське МСКП 32714284 | C45: транспорт | D45: послуга | E45: Послуги з ремонту та технічного обслуговування транспортного засобу (спецтехніки) екскаватора JCB-4CX (ДК 021:2015:50530000-9 «Послуги з ремонту і технічного обслуговування техніки») | F45: 46058 | G45: 661.27 | H45: місцевий бюджет | I45: ТОВ "Армор Кар" | J45: 45438529 | K45: послуга | L45: 6 | N45: Послуги з ремонту та технічного обслуговування транспортного засобу (спецтехніки) екскаватора JCB-4CX | O45: UA-2026-02-05-002222-a
A46: 5 | B46: Сіверське МСКП 32714284 | C46: транспорт | D46: послуга | E46: Послуги з ремонту та технічного обслуговування транспортного засобу (спецтехніки) екскаватора JCB-4CX (ДК 021:2015:50530000-9 «Послуги з ремонту і технічного обслуговування техніки») | F46: 46058 | G46: 285.402 | H46: місцевий бюджет | I46: ТОВ "Армор Кар" | J46: 45438529 | K46: послуга | L46: 7 | N46: Послуги з ремонту та технічного обслуговування транспортного засобу (спецтехніки) екскаватора JCB-4CX | O46: UA-2026-02-05-002390-a
A47: 6 | B47: Сіверська міська рада 04053097 | C47: інші | D47: послуга | E47: Послуги з пересилання внутрішніх посилок, ДК 021:2015:64110000-0 Поштові послуги | F47: 46058 | G47: 300 | H47: місцевий бюджет | I47: АТ "Укр пошта" | J47: 21560045 | K47: послуга | L47: 1 | N47: Послуги з пересилання внутрішніх посилок | O47: UA-2026-02-05-013350-a
A48: 7 | B48: Сіверська міська рада 04053097 | C48: транспорт | D48: послуга | E48: Послуги з виконання робіт по дообладнанню (бронюванню) спецтехніки (екскаватора-навантажувача JCB-4CX) для забезпечення безпечної роботи техніки на території Сіверської міської територіальної громади, яка перебуває в зоні активних бойових дій (код ДК 021:2015:50110000-9 «Послуги з ремонту і технічного обслуговування мототранспортних засобів і супутнього обладнання») | F48: 46071 | G48: 1900 | H48: місцевий бюджет | I48: ТОВ "Армор Кар" | J48: 45438529 | K48: послуга | L48: 8 | N48: Послуги з виконання робіт по дообладнанню (бронюванню) спецтехніки (екскаватора-навантажувача JCB-4CX) | O48: UA-2026-02-18-001284-a
A49: 8 | B49: Сіверська міська рада 04053097 | C49: транспорт | D49: послуга | E49: Послуги з технічного обслуговування і ремонту автомобільного транспорту, автомобіля Volkswagen Transporter, ДК 021:2015 50110000-9 Послуги з ремонту і технічного обслуговування мототранспортних засобів і супутнього обладнання | F49: 46073 | G49: 339.52 | H49: місцевий бюджет | I49: ТОВ "Армор Кар" | J49: 45438529 | K49: послуга | L49: 13 | M49: 339520 | N49: Послуги з технічного обслуговування і ремонту автомобільного транспорту, автомобіля Volkswagen Transporter | O49: UA-2026-02-20-008101-a
A50: 9 | B50: Сіверське МСКП 32714284 | C50: транспорт | D50: послуга | E50: Послуги з виконання робіт по дообладнанню (бронюванню) спецтехніки (екскаватора колісного JCB JS145 W MON) (код ДК 021:2015:50110000-9 «Послуги з ремонту і технічного обслуговування мототранспортних засобів і супутнього обладнання») | F50: 46091 | G50: 2200 | H50: місцевий бюджет | I50: ТОВ "Армор Кар" | J50: 45438529 | K50: послуга | L50: 7 | N50: Послуги з виконання робіт по дообладнанню (бронюванню) спецтехніки (екскаватора колісного JCB JS145 W MON) | O50: UA-2026-03-10-003500-a
A51: 10 | B51: Сіверська міська рада 04053097 | C51: господарська діяльність | D51: товар | E51: Джерела резервного живлення (портативні зарядні станції) ДК 021:2015 31430000-9 Електричні акумулятори | F51: 46094 | G51: 354.9 | H51: місцевий бюджет | I51: ТОВ "ТЕХНО ІНОВЕЙШН КОМПАНІ" | J51: 40536733 | K51: товар | L51: 10 | M51: 35490 | N51: Портативна зарядна станція 2048Wh Oukitel P2001E Plus | O51: UA-2026-03-13-010156-a
A52: 11 | B52: Сіверська міська рада 04053097 | C52: паливно-мастильні матеріали | D52: товар | E52: Дизельне паливо (Євро 5), талон; Бензин А-95 (Євро 5), талон, ДК 021:2015: 09130000-9 Нафта і дистиляти | F52: 46184 | G52: 524.88 | H52: місцевий бюджет | I52: ТОВ "ПЕТРОЛ ПАРТНЕР" | J52: 44763104 | K52: літри | L52: 7000 | N52: Дтзельне паливо та Бензин А-95 | O52: UA-2026-06-11-011237-a
A53: 12 | B53: Сіверське МСКП 32714284 | C53: транспорт | D53: послуга | E53: Послуги з виконання робіт по дообладнанню (бронюванню) спецтехніки (навантажувача телескопічного JCB 535V125 Stage V) (код ДК 021:2015:50110000-9 «Послуги з ремонту і технічного обслуговування мототранспортних засобів і супутнього обладнання») | F53: 46199 | G53: 1650 | H53: місцевий бюджет | I53: ТОВ "Армор Кар" | J53: 45438529 | K53: послуга | L53: 7 | N53: Послуги з виконання робіт по дообладнанню (бронюванню) спецтехніки (навантажувача телескопічного JCB 535V125 Stage V) | O53: UA-2026-06-26-009138-a
A54: 13 | B54: Сіверське МСКП 32714284 | C54: транспорт | D54: послуга | E54: Послуги з поточного ремонту та технічного обслуговування транспортних засобів (код ДК 021:2015:50110000-9 «Послуги з ремонту і технічного обслуговування мототранспортних засобів і супутнього обладнання») | F54: 46203 | G54: 1496.962 | H54: місцевий бюджет | I54: ФОП Портнягіна Ірина Вікторівна | J54: 2847918769 | K54: послуга | L54: 225 | N54: Послуги з поточного ремонту та технічного обслуговування транспортних засобів | O54: UA-2026-06-30-010898-a
B55: Соледарська
A56: 1 | B56: Управління освіти Соледарської міської ради | C56: інші | D56: послуга | E56: 70220000-9 Послуги з надання в оренду чи лізингу нежитлової нерухомості | F56: 46036 | G56: 293.118 | H56: місцевий бюджет | I56: ФОП БЕРНЕР ЯНІНА ІГОРІВНА | J56: 2882005089 | K56: кв.м | L56: 155.12 | M56: 1889.62 | N56: Послуги з тимчасового користування нежитлового приміщення площею 155,12 кв.м., що знаходиться за адресою: Україна, м.Дніпро, пр.Героїв 30д, літ.А-4, з метою розміщення Управління освіти Соледарської міської ради | O56: https://zakupivli.pro/gov/tenders/ua-2026-01-14-004915-a
A57: 2 | B57: Соледарська міська рада Бахмутського району Донецької області | C57: паливно-мастильні матеріали | D57: товар | E57: бензин А95 та дизельне паливо 09130000-9 Нафта і дистиляти | F57: 46063 | G57: 400 | H57: місцевий бюджет | I57: ТОВ "ОРІОН НАВІТЕК" | J57: 45837721 | K57: літри | L57: 3800 2820 | N57: Дизельне паливо (Євро 5), талон; Бензин А-95 (Євро 5), талон | O57: https://public-bid.com.ua/tender/28254663
A58: 3 | B58: СКП "Комунальник" 21948370 | C58: цивільний захист | D58: товар | E58: 35730000-0 "Електронні бойові комплекси та засоби радіоелектронного захисту" | F58: 46066 | G58: 800 | H58: місцевий бюджет | I58: ТОВ "ДронХаб" | J58: 45349240 | K58: штуки | L58: 2 | M58: 383700 | N58: Засоби РЕБ для Екскаватора JCB та Евакуатора | O58: https://prozorro.gov.ua/plan/UA-P-2026-02-13-000310-a | P58: так
A59: 4 | B59: Соледарська міська рада Бахмутського району Донецької області | C59: господарська діяльність | D59: товар | E59: Зарядні станції 31430000-9 Електричні акумулятори | F59: 46071 | G59: 750 | H59: місцевий бюджет | I59: ТОВ НЕКСОРА ТЕХ | J59: 45851285 | K59: штуки | L59: 10 | M59: 52200 | N59: Зарядна станція EcoFlowDELTA 3 Plus | O59: https://public-bid.com.ua/plan/36778848
A60: 5 | B60: Соледарська міська рада Бахмутського району Донецької області | C60: паливно-мастильні матеріали | D60: товар | E60: бензин А95 та дизельне паливо 09130000-9 Нафта і дистиляти | F60: 46105 | G60: 400 | H60: місцевий бюджет | I60: ПП "ОККО-СЕРВІС" | J60: 44838860 | K60: літри | L60: 1820 3100 | M60: 70,05 87,90 | N60: бензин дизельне паливо | O60: https://public-bid.com.ua/tender/28741957
A61: 6 | B61: Управління соціального захисту населення Соледарської міської ради Бахмутського району Донецької області | C61: оздоровлення | D61: послуга | E61: ДК 021:2015: 55240000-4 — Послуги центрів і будинків відпочинку (Послуги з оздоровлення та відпочинку дітей) | F61: 46141 | G61: 735 | H61: місцевий бюджет | I61: ФОП "ОГНЯНИК МАРІЯ ІВАНІВНА" | J61: 3230401267 | K61: штуки | L61: 30 | M61: 24500 | N61: путівки для відпочинку та оздоровлення дітей, які потребують особливої соціальної уваги та підтримки | O61: https://prozorro.gov.ua/uk/tender/UA-2026-04-29-010874-a
B62: Торецька
A63: 1 | B63: Управління освіти Торецької міської військової адмінінстрації Бахмутського району Донецької області | C63: інші | D63: послуга | E63: 70220000-9 — Послуги з надання в оренду чи лізингу нежитлової нерухомості | F63: 46031 | G63: 240 | H63: місцевий бюджет | I63: ФОП Стефаненко Алла Володимирівна | J63: 2508309981 | K63: послуга | L63: 1 | M63: 20000 | N63: Орендна плата за місяць | O63: https://prozorro.gov.ua/uk/tender/UA-2026-01-09-006853-a
A64: 2 | B64: Управління освіти Торецької міської військової адмінінстрації Бахмутського району Донецької області | C64: інші | D64: послуга | E64: 70220000-9 — Послуги з надання в оренду чи лізингу нежитлової нерухомості | F64: 46031 | G64: 276 | H64: місцевий бюджет | I64: ФОП Стефаненко Алла Володимирівна | J64: 2508309981 | K64: послуга | L64: 1 | M64: 23000 | N64: Орендна плата за місяць | O64: https://prozorro.gov.ua/uk/tender/UA-2026-01-09-007037-a
A65: 3 | B65: Управління соіального захисту населення Торецької міської військової адмінінстрації Бахмутського району Донецької області | C65: транспорт | D65: послуга | E65: 60180000-3 — Прокат вантажних транспортних засобів із водієм для перевезення товарів | F65: 46069 | G65: 443.927 | H65: місцевий бюджет | I65: ФОП МУХОЯН АРТЕМ ОВАНЕСОВИЧ | J65: 3235916097 | K65: послуга | L65: 1 | M65: 443926.6 | N65: Послуги з обслуговування автомобільним транспортом для доставки гуманітарної допомоги ВПО Торецької міської Територіальної громади в межах території України | O65: https://prozorro.gov.ua/uk/tender/UA-2026-02-16-009444-a
A66: 4 | B66: Управління соіального захисту населення Торецької міської військової адмінінстрації Бахмутського району Донецької області | C66: інші | D66: послуга | E66: 64110000-0 — Поштові послуги | F66: 46092 | G66: 290.4 | H66: місцевий бюджет | I66: АТ "УКРПОШТА" | J66: 21560045 | K66: послуга | L66: 1 | M66: 290400 | N66: Послуги з пересилання внутрішніх посилок (без оголошеної цінності масою до 10 кілограмів; без оголошеної цінності масою понад 10 кілограмів; з оголошеною цінністю); послуги «Кур’єрська доставка», «Масовий кур’єрський забір або доставка | O66: https://prozorro.gov.ua/uk/tender/UA-2026-03-11-007808-a
A67: 5 | B67: Управління соіального захисту населення Торецької міської військової адмінінстрації Бахмутського району Донецької області | C67: інші | D67: послуга | E67: 85320000-8 — Соціальні послуги. Надання соціальних послуг шляхом соціального замовлення та компенсації надавачам вартості соціальних послуг | F67: 46112 | G67: 273 | H67: місцевий бюджет | I67: ПАТ ЛІКУВАЛЬНО-ОЗДОРОВЧИХ ЗАКЛАДІВ "МИРГОРОДКУРОРТ" | J67: 2649437 | K67: послуга | L67: 1 | M67: 81.25 | N67: Соціальна послуга адаптації ветеранів війни та членів їх сімей | O67: https://prozorro.gov.ua/uk/tender/UA-2026-03-31-003334-a
A68: 6 | B68: Торецька міська військова адмінінстрація Бахмутського району Донецької області | C68: паливно-мастильні матеріали | D68: товар | E68: 09134200-9 Дизельне паливо | F68: 46121 | G68: 336.6 | H68: місцевий бюджет | I68: ТОВ "ОРІОН НАВІТЕК" | J68: 45837721 | K68: літри | L68: 3400 | M68: 99 | N68: Дизельне паливо | O68: https://prozorro.gov.ua/uk/tender/UA-2026-04-09-004251-a
A69: 7 | B69: Комунальне некомерційне підприємство "Центр первинної медико-санітарної допомоги" м. Торецька | C69: охорона здоров'я | D69: товар | E69: 33750000-2 — Засоби для догляду за малюками | F69: 46122 | G69: 229.68 | H69: місцевий бюджет | I69: ТОВ "СКАРЛЕТ-ЛТД" (договір на суму 159,94 тис. грн) | J69: 33878073 | K69: штуки | L69: 6120 | N69: Пелюшки одноразові, 5 видів підгузків для дорослих | O69: https://prozorro.gov.ua/uk/tender/UA-2026-04-10-010093-a
A70: 8 | B70: Комунальне некомерційне підприємство "Центр первинної медико-санітарної допомоги" м. Торецька | C70: охорона здоров'я | D70: товар | E70: 33150000-6 — Апаратура для радіотерапії, механотерапії, електротерапії та фізичної терапії | F70: 46167 | G70: 561.9 | H70: місцевий бюджет | I70: ФОП "КОСЬМІН ВІКТОР ДМИТРОВИЧ" | J70: 2177111499 | K70: штуки | L70: 16 | N70: Пристрій реабілітаційний, реабілітаційний стіл для терапії широкий з електричним регулюванням висоти, столове приладдя, стакан для пиття з носиком, обмежувач для тарілки, пристосування для підняття і опускання нижньої кінцівки тощо | O70: https://prozorro.gov.ua/uk/tender/UA-2026-05-25-014418-a
A71: 9 | B71: Комунальне некомерційне підприємство "Центр первинної медико-санітарної допомоги" м. Торецька | C71: охорона здоров'я | D71: товар | E71: ДК 021:2015: 33110000-4 Візуалізаційне обладнання для потреб медицини, стоматології та ветеринарної медицини | F71: 46189 | G71: 398.3 | H71: місцевий бюджет | I71: TOB "УКР ДІАГНОСТИКА" | J71: 38517622 | K71: штуки | L71: 1 | N71: Сканер стоматологічний інтраоральний | O71: https://prozorro.gov.ua/uk/tender/UA-2026-06-16-013928-a
A72: 10 | B72: Комунальне некомерційне підприємство "Центр первинної медико-санітарної допомоги" м. Торецька | C72: охорона здоров'я | D72: товар | E72: ДК 021:2015: 33190000-8 Медичне обладнання та вироби медичного призначення різні | F72: 46192 | G72: 362.7 | H72: місцевий бюджет | I72: ТОВ "АВАКОМ" | J72: 42497927 | K72: штуки | L72: 1 1 | M72: 270309,82 92436,23 | N72: Крісло гінекологічне електричне Фетальний кардіологічний монітор | O72: https://prozorro.gov.ua/uk/tender/UA-2026-06-19-012589-a
A73: 11 | B73: Комунальне некомерційне підприємство "Центр первинної медико-санітарної допомоги" м. Торецька | C73: охорона здоров'я | D73: товар | E73: ДК 021:2015: 33120000-7 Системи реєстрації медичної інформації та дослідне обладнання | F73: 46192 | G73: 1633 | H73: місцевий бюджет | I73: ФОП "Моісєєнко Людмила Михайлівна" | J73: 2327415125 | K73: штуки | L73: 1 1 | M73: 698000,00 935000,00 | N73: Комплекс електроенцефалографічний комп’ютерний Комплекс електронейроміографічний комп’ютерний | O73: https://prozorro.gov.ua/uk/tender/UA-2026-06-19-011923-a
A74: 12 | B74: Управління соціального захисту населення Торецької міської військової адміністрації Бахмутського району Донецької області | C74: інформатизація | D74: товар | E74: 30210000-4 — Машини для обробки даних (апаратна частина) | F74: 46192 | G74: 230.37 | H74: місцевий бюджет | I74: ТОВ "ТОРГОВИЙ ДІМ "ПАРТНЕР АЙ ТІ" | J74: 41263186 | K74: комплект | L74: 5 | M74: 46074 | N74: Ноутбук у комплекті з попередньо встановленим програмним забезпеченням та аксесуарами | O74: https://prozorro.gov.ua/uk/tender/UA-2026-06-19-008224-a
A75: 13 | B75: Комунальне некомерційне підприємство "Центральна міська лікарня" міста Торецька | C75: охорона здоров'я | D75: товар | E75: 33150000-6 — Апаратура для радіотерапії, механотерапії, електротерапії та фізичної терапії | F75: 46231 | G75: 3627.98 | H75: місцевий бюджет | K75: штуки | L75: 3 | N75: Різні види медичного обладнання | O75: https://prozorro.gov.ua/uk/tender/UA-2026-07-28-005880-a
A76: 14 | B76: Комунальне некомерційне підприємство "Центр первинної медико-санітарної допомоги" м. Торецька | C76: паливно-мастильні матеріали | D76: товар | E76: 09130000-9 — Нафта і дистиляти | F76: 46252 | G76: 311.5 | H76: місцевий бюджет | K76: літри | L76: 3500 | N76: Дизельне паливо | O76: https://prozorro.gov.ua/uk/tender/UA-2026-08-18-006233-a
A77: 15 | B77: Комунальне некомерційне підприємство "Центральна міська лікарня" міста Торецька | C77: охорона здоров'я | D77: товар | E77: 33110000-4 — Візуалізаційне обладнання для потреб медицини, стоматології та ветеринарної медицини | F77: 46252 | G77: 1884 | H77: місцевий бюджет | K77: штуки | L77: 1 | N77: Система ультразвукова діагностична укомплектована ультразвуковими датчиками: конвексним, лінійним, фазований | O77: https://prozorro.gov.ua/uk/tender/UA-2026-08-18-005456-a
A78: 16 | B78: Комунальне некомерційне підприємство "Центральна міська лікарня" міста Торецька | C78: охорона здоров'я | D78: товар | E78: 33120000-7 — Системи реєстрації медичної інформації та дослідне обладнання | F78: 46255 | G78: 1807.374 | H78: місцевий бюджет | K78: штуки | L78: 1 1 | N78: Комплекс електроміографічний комп’ютерний Електроенцефалограф | O78: https://prozorro.gov.ua/uk/tender/UA-2026-08-21-013021-a
B79: Часовоярська
A80: 1 | B80: Часовоярська міська рада | C80: інші | D80: послуга | E80: Послуги поштового зв'язку (відправка гуманітарної допомоги мешканцям) ДК021:2015-64110000-0 "Поштові послуги" | F80: 46031 | G80: 360 | H80: місцевий бюджет | I80: ТОВ "Нова пошта" | J80: 31316718 | O80: UA-2026-01-09-007061-a
A81: 2 | B81: Часовоярська міська рада | C81: інші | D81: послуга | E81: Послуги з пересилання внутрішніх посилок (відправка гуманітарної допомоги мешканцям) ДК021:2015-64110000-0 "Поштові послуги" | F81: 46052 | G81: 218.4 | H81: місцевий бюджет | I81: АТ "Укрпошта" | J81: 21560045 | O81: UA-2026-01-30-015119-a
A82: 3 | B82: Часовоярська міська рада | C82: інші | D82: послуга | E82: Послуги з відпочинку та оздоровлення дітей Часовоярської міської територіальної громади ДК021:2015-55240000-4 "Послуги центрів та будинків відпочинку" | F82: 46101 | G82: 855 | H82: місцевий бюджет | I82: ТОВ "Агротрансгрупа" | J82: 43247653 | K82: послуга | O82: UA-2026-03-20-003961-a
A83: 4 | B83: Часовоярська міська рада | C83: транспорт | D83: товар | E83: Екскаватор одноківшевий самохідний колісний Hyundai R180W-9S ДК021:2015-43260000-3 "Механічні лопати, екскаватори та ковшові навантажувачі, гірнича техніка" | F83: 46101 | G83: 9594 | H83: місцевий бюджет | I83: ТОВ ТД "Альфатех" | J83: 37383046 | K83: штуки | L83: 1 | M83: 9594000 | N83: Екскаватор одноківшевий самохідний колісний Hyundai R180W-9S | O83: UA-2026-03-20-008630-a | P83: так
A84: 5 | B84: Часовоярська міська рада | C84: паливно-мастильні матеріали | D84: товар | E84: Дизельне паливо (талони) ДК021:2015-09130000-9 "Нафта і дистиляти" | F84: 46127 | G84: 532.8 | H84: місцевий бюджет | I84: ПП ОККО-Сервіс (сума договору 532,8 тис.грн) | J84: 44838860 | K84: літри | L84: 6000 | M84: 88.8 | N84: дизельне паливо (талони) | O84: UA-2026-04-15-003029-a
A85: 6 | B85: Часовоярська міська рада | C85: цивільний захист | D85: товар | E85: Засоби радіолектронноі боротьби ДК021:2015-35730000-0 "Електронні бойові комплекси та засоби радіоелектронного захисту" | F85: 46139 | G85: 735 | H85: місцевий бюджет | I85: ФОП Євтушенко С.І. | J85: 2889407493 | K85: штуки | L85: 2 | M85: 367500 | N85: Засіб радіоелектронноі боротьби "Бульба 1/12 "Автобокс" | O85: UA-2026-04-27-007805-a
A86: 7 | B86: Часовоярська міська рада | C86: паливно-мастильні матеріали | D86: товар | E86: Дизельне паливо (талони) ДК021:2015-09130000-9 "Нафта і дистиляти" | F86: 46241 | G86: 1000.5 | H86: місцевий бюджет | I86: ТОВ "Укрпетролцентр" (сума договору 995,7 тис.грн) | J86: 43699122 | K86: літри | L86: 11500 | M86: 86.58 | N86: дизельне паливо (талони) | O86: UA-2026-08-07-000503-a
B87: Волноваський район
B88: Волноваська | C88: закупівлі відсутні
B89: Великоновосілківська
A90: 1 | B90: Великоновосілківська селищна рада | C90: паливно-мастильні матеріали | D90: товар | E90: 09130000-9 Нафта і дистиляти | F90: 46230 | G90: 207.2 | H90: місцевий бюджет | I90: ТОВ "ПЕТРОЛ ПАРТНЕР" | J90: 44763104 | K90: літри | L90: 2500 | M90: 82.86 | N90: Бензин А-95 (Євро 5) | O90: https://zakupivli.pro/gov/tenders/UA-2026-07-27-005330-a
B91: Вугледарська
A92: 1 | B92: ВУГЛЕДАРСЬКЕ МІСЬКЕ УПРАВЛІННЯ СОЦІАЛЬНОГО ЗАХИСТУ НАСЕЛЕННЯ | C92: інформатизація | D92: послуга | E92: ДК 021:2015: 72410000-7 Послуги провайдерів. | F92: 46041 | G92: 200 | H92: місцевий бюджет | I92: ТОВ "Анте Медіам" | J92: 37815293 | K92: послуга | L92: 1 | M92: 200000 | N92: Надання ресурсів хмарного дата центру для розміщення сервісів Вугледарського міського управління соціального захисту населення | O92: https://zakupivli.pro/gov/tenders/ua-2026-01-19-006467-a
B93: Комарська
A94: 1 | B94: Комарська сільська рада | C94: паливно-мастильні матеріали | D94: товар | E94: Пально-мастильні матеріали (бензин А-95, дизельне паливо). ДК 021:2015: 09130000-9 Нафта і дистиляти | F94: 46156 | G94: 430.7 | H94: місцевий бюджет | I94: ПП "ОККО- СЕРВІС" | J94: 44838860 | K94: літри | L94: 2100 3170 | M94: 75,00 85,50 | N94: Бензин А-95 (Євро 5): вміст сірки не більше 10мг/кг – так; октанове число (за дослідним методом) – 95; Дизельне паливо (Євро 5): мінімальне цетанове число – 49; вміст сірки не більше 10 мг/кг – так; | O94: https://prozorro.gov.ua/uk/tender/UA-2026-05-14-005221-a
A95: 2 | B95: Комарська сільська військова адміністрація | C95: паливно-мастильні матеріали | D95: товар | E95: Пально-мастильні матеріали (бензин А-95, дизельне паливо). ДК 021:2015: 09130000-9 Нафта і дистиляти | F95: 46241 | G95: 599.94 | H95: місцевий бюджет | K95: літри | N95: Бензин А-95 : Вміст сірки не більше 10мг/кг Спосіб реалізації – талон; Октанове число (за дослідним методом) – 95; Відповідність ДСТУ 7687:2015. Дизельне паливо. Відповідність сезонності дизельного палива згідно ДСТУ 7688:2015; Спосіб реалізації – талон; Мінімальне цетанове число – 49; Вміст сірки не більше 10 мг/кг; Відповідність ДСТУ 7688:2015 | O95: https://prozorro.gov.ua/uk/tender/UA-2026-08-07-008967-a
B96: Мирненська | C96: закупівлі відсутні
B97: Ольгинська | C97: закупівлі відсутні
B98: Старомлинівська | C98: закупівлі відсутні
B99: Хлібодарівська | C99: закупівлі відсутні
B100: Краматорський район
B101: Краматорська районна державна адміністрація Донецької обласі
...

Sheet На оборонні закупівлі
H1: Додаток 2
H2: до листа департаменту економіки облдержадміністрації
H3: від_______№__________
A4: Інформація про заплановані закупівлі робіт, послуг, товарів по територіальним громадам Донецької області
H5: станом на 27.08.2026
A6: № п/п | B6: Назва району, територіальної громади Замовник | C6: Напрямок використання коштів | D6: Вид закупівлі (робота, послуга, товар) | E6: Предмет закупівлі | F6: Дата планового оголошення | G6: Запланована сума закупівлі, | H6: Джерело фінансування закупівлі | I6: Плануємий постачальник (за наявності) | J6: Код ЄДРПОУ постачальника | K6: Інформація щодо товару | O6: Посилання на закупівлю в електронній системі | P6: Закупівлі на оборонні роботи, так
K7: Одиниця виміру (штуки, тонни, кілограми, куб. м, пог. м тощо) | L7: Кількість | M7: Вартість за одиницю з урахуванням ПДВ, грн | N7: Короткий опис товару
E8: (назва, код) | G8: тис. грн
A9: 1 | B9: 2 | C9: 3 | D9: 4 | E9: 5 | F9: 6 | G9: 7 | H9: 8 | I9: 9 | J9: 10 | K9: 11 | L9: 12 | M9: 13 | N9: 14 | O9: 15 | P9: 16
B10: ВСЬОГО - 74 | G10: =SUM(G11:G84) -> 132253.8
A11: 1 | B11: Званівська сільська рада | C11: паливно-мастильні матеріали | D11: товар | E11: ДК 021:2015: 09130000-9 Нафта і дистиляти | F11: 46055 | G11: 360 | H11: місцевий бюджет | I11: ТОВ «Укрпетролцентр» | J11: 43699122 | K11: послуга | L11: 6000 | M11: 60 | N11: Дизельне паливо | O11: https://prozorro.gov.ua/tender/UA-2026-02-02-006506-a | P11: так
A12: 2 | B12: Званівська сільська рада | C12: транспорт | D12: послуга | E12: ДК 021:2015 - 50110000-9 Послуги з поточного ремонту і технічного обслуговування мототранспортних засобів і супутнього обладнання | F12: 46063 | G12: 470.672 | H12: місцевий бюджет | I12: ТОВ "СТАНДАРТ СТРОЙ МИР" | J12: 43607466 | K12: послуга | L12: 44 | N12: Послуги з поточного ремонту і технічного обслуговування мототранспортних засобів і супутнього обладнання | O12: https://prozorro.gov.ua/tender/UA-2026-02-10-004213-a | P12: так
A13: 3 | B13: Званівська сільська рада | C13: паливно-мастильні матеріали | D13: товар | E13: ДК 021:2015: 09130000-9 Нафта і дистиляти | F13: 46133 | G13: 295 | H13: місцевий бюджет | I13: ТОВ "Маршал-Кард" | J13: 44793228 | K13: літри | L13: 3450 | M13: 85.5 | N13: Дизельне паливо | O13: https://prozorro.gov.ua/tender/UA-2026-04-21-007201-a | P13: так
A14: 4 | B14: Званівська сільська рада | C14: паливно-мастильні матеріали | D14: товар | E14: ДК 021:2015: 09130000-9 Нафта і дистиляти | F14: 46231 | G14: 308 | H14: місцевий бюджет | I14: ТОВ «Укрпетролцентр». | J14: 43699122 | K14: літри | L14: 3500 | M14: 87.66 | N14: Дизельне паливо | O14: https://prozorro.gov.ua/tender/UA-2026-07-28-005841-a | P14: так
A15: 5 | B15: СКП "Комунальник" 21948370 | C15: цивільний захист | D15: товар | E15: 35730000-0 "Електронні бойові комплекси та засоби радіоелектронного захисту" | F15: 46066 | G15: 800 | H15: місцевий бюджет | I15: ТОВ "ДронХаб" | J15: 45349240 | K15: штуки | L15: 2 | M15: 383700 | N15: Засоби РЕБ для Екскаватора JCB та Евакуатора | O15: https://prozorro.gov.ua/plan/UA-P-2026-02-13-000310-a | P15: так
A16: 6 | B16: Часовоярська міська рада | C16: транспорт | D16: товар | E16: Екскаватор одноківшевий самохідний колісний Hyundai R180W-9S ДК021:2015-43260000-3 "Механічні лопати, екскаватори та ковшові навантажувачі, гірнича техніка" | F16: 46101 | G16: 9594 | H16: місцевий бюджет | I16: ТОВ ТД "Альфатех" | J16: 37383046 | K16: штуки | L16: 1 | M16: 9594000 | N16: Екскаватор одноківшевий самохідний колісний Hyundai R180W-9S | O16: UA-2026-03-20-008630-a | P16: так
A17: 7 | B17: КП "Електромереж зовнішнього освітлення "Міськсвітло"" | C17: цивільний захист | D17: товар | E17: Дріт сталевий (за кодом ДК 021:2015-44330000-2 «Будівельні прути, стрижні, дроти та профілі») | F17: 46105 | G17: 1106.776 | H17: місцевий бюджет | I17: ТОВ "ДНІПРОМЕТИЗ ТАС" | J17: 5393145 | K17: тонна | L17: 23.69 | O17: https://prozorro.gov.ua/uk/tender/UA-2026-03-24-012310-a | P17: так
A18: 8 | B18: КП "Електромереж зовнішнього освітлення "Міськсвітло"" | C18: цивільний захист | D18: товар | E18: Сітка шпалерна (ДК 021-2015 за кодом 39540000-9 – «Вироби різні з канату, мотузки, шпагату та сітки») | F18: 46119 | G18: 283.5 | H18: місцевий бюджет | I18: ТОВ "ОДЕСПРОМПАК" | J18: 38437390 | K18: погонний метр | L18: 63000 | O18: https://prozorro.gov.ua/uk/tender/UA-2026-04-07-011771-a | P18: так
A19: 9 | B19: КП "Електромереж зовнішнього освітлення "Міськсвітло"" | C19: цивільний захист | D19: товар | E19: Дріт сталевий (за кодом ДК 021:2015-44330000-2 «Будівельні прути, стрижні, дроти та профілі») | F19: 46127 | G19: 959.244 | H19: місцевий бюджет | I19: ТОВ "ДНІПРОМЕТИЗ ТАС" | J19: 5393145 | K19: тонна | L19: 19.87 | O19: https://prozorro.gov.ua/uk/tender/UA-2026-04-15-010125-a | P19: так
A20: 10 | B20: КП "Електромереж зовнішнього освітлення "Міськсвітло"" | C20: цивільний захист | D20: товар | E20: Стяжка кабельна (ДК 021-2015 за кодом 44320000-9 – «Кабелі та супутня продукція») | F20: 46127 | G20: 311.539 | H20: місцевий бюджет | I20: ТОВ "СПЕЙР ПАТС" | J20: 45375820 | K20: паковання | L20: 21280 | O20: https://prozorro.gov.ua/uk/tender/UA-2026-04-15-009307-a | P20: так
A21: 11 | B21: КП "Електромереж зовнішнього освітлення "Міськсвітло"" | C21: цивільний захист | D21: товар | E21: Труба профільна (за кодом ДК 021:2015 – 44330000-2 «Будівельні прути, стрижні, дроти та профілі») | F21: 46132 | G21: 1590.863 | H21: місцевий бюджет | I21: ТОВ ТРУБНИЙ ЗАВОД "СЛАВСАНТ" | J21: 14338180 | K21: тонна | L21: 39.94 | O21: https://prozorro.gov.ua/uk/tender/UA-2026-04-20-008436-a | P21: так
A22: 12 | B22: КП «Краматорське трамвайно-тролейбусне управління» (КТТУ) | C22: паливно-мастильні матеріали | D22: товар | E22: Дизельне паливо (Євро 5) | F22: 46239 | G22: 2100 | H22: місцевий бюджет, власні кошти | I22: ТОВ "ЕНЕРГО ТЕХ АЛЬЯНС" | J22: 43851152 | K22: літри | L22: 20000 | O22: https://prozorro.gov.ua/uk/tender/UA-2026-08-05-012720-a | P22: так
A23: 13 | B23: КАТП 052810 | C23: паливно-мастильні матеріали | D23: товар | E23: Бензин А-95 (Євро 5) | F23: 46244 | G23: 1500 | H23: місцевий бюджет, власні кошти | I23: ТОВ "ЕНЕРГО ТЕХ АЛЬЯНС" | J23: 43851152 | L23: 20000 | O23: https://prozorro.gov.ua/uk/tender/UA-2026-08-10-007302-a | P23: так
A24: 14 | B24: КП ДРУАС | C24: цивільний захист | D24: товар | E24: Скоби будівельні з кованими кінцями (44530000-4 - Кріпильні деталі) | F24: 46134 | G24: 310 | H24: місцевий бюджет | I24: ФОП "ЗАПАРА ТАРАС ВОЛОДИМИРОВИЧ" | J24: 2986306537 | O24: https://prozorro.gov.ua/uk/tender/UA-2026-04-22-008727-a | P24: так
A25: 15 | B25: КП ДРУАС | C25: цивільний захист | D25: товар | E25: Шлак електропічний (14630000-6 Шлак, окалина, відходи та скрап чорних металів) | F25: 46213 | G25: 300 | H25: місцевий бюджет | I25: ТОВ "МЕТАЛЛ ПРОГРЕСС" | J25: 41841818 | O25: https://prozorro.gov.ua/uk/tender/UA-2026-07-10-010923-a | P25: так
A26: 16 | B26: КП "Міст" | C26: цивільний захист | D26: товар | E26: Дошка необрізна та ліс круглий (ДК 021:20215 03410000-7 Деревина) | F26: 46031 | G26: 9994.4 | H26: місцевий бюджет | I26: ТОВ "ФАВОРИТТОРГБУД" | J26: 40964506 | K26: куб. м | L26: 1527 | O26: https://prozorro.gov.ua/uk/tender/UA-2026-01-09-008022-a | P26: так
A27: 17 | B27: КП "Міст" | C27: цивільний захист | D27: товар | E27: Cпіральний бар'єр безпеки по типу «Єгоза», діаметр 1100 мм, бухта 20-25 м, 2000 бухт(ДК 021:2015: 44310000-6: Вироби з дроту) | F27: 46056 | G27: 7000 | H27: місцевий бюджет | I27: ТОВ "БАВАРСЬКА БУДІВЕЛЬНА КОМПАНІЯ" | J27: 45559404 | K27: бухта | L27: 2000 | O27: https://prozorro.gov.ua/uk/tender/UA-2026-02-03-013548-a | P27: так
A28: 18 | B28: Комунальне підприємство "Іллінівської сільської ради Краматорського району Донецької області "Іллінівське" | C28: цивільний захист | D28: товар | E28: Бронежилет модульний "універсальний" 6 класу захисту, бронежилет модульний "універсальний" з показником протиуламкової стійкості V50 не менше 600м/с 1 класу захисту за ДСТУ | F28: 46177 | G28: 358.4 | H28: місцевий бюджет | I28: ТОВ "УКРТАК.ЮА" | J28: 44769530 | K28: комплект | L28: 12 | M28: 32 200,00 84 400,00 44 200,00 139 200,00 58 400,00 | N28: Бронежилет модульний "універсальний" 6 класу захисту, бронежилет модульний "універсальний" з показником протиуламкової стійкості V50 не менше 600м/с 1 класу захисту за ДСТУ | O28: https://prozorro.gov.ua/uk/tender/UA-2026-06-04-001769-a | P28: так
A29: 19 | B29: Костянтинівська міська військова адміністрація Краматорського району Донецької області | C29: цивільний захист | D29: товар | E29: ДК 021:2015: 35730000-0 — Електронні бойові комплекси та засоби радіоелектронного захисту | F29: 46062 | G29: 450 | H29: місцевий бюджет | I29: Кібенок Тетяна Ігорівна | J29: 3382112743 | K29: штуки | L29: 1 | M29: 450000 | N29: Система завади дронів (РЕБ) Raccoon Annihilator на 16 діапазонів (від 200 до 1100 мГц + від 1,1 до 5,8 гГц) | O29: UA-2026-02-09-014567-a | P29: так
A30: 20 | B30: Виконавчий комітет Лиманської міської ради | C30: паливно-мастильні матеріали | D30: товар | E30: ДК 021:2015:09130000-9: Нафта і дистиляти | F30: 46064 | G30: 600 | H30: місцевий бюджет | I30: ТОВ "УКРПЕТРОЛЦЕНТР" | J30: 43699122 | K30: літри | L30: 10000 | M30: 60 | N30: Дизельне паливо | O30: https://prozorro.gov.ua/tender/UA-2026-02-11-015570-a | P30: так
A31: 21 | B31: Виконавчий комітет Лиманської міської ради | C31: паливно-мастильні матеріали | D31: товар | E31: ДК 021:2015:09130000-9: Нафта і дистиляти | F31: 46133 | G31: 481.9 | H31: місцевий бюджет | I31: ТОВ "УКРПЕТРОЛЦЕНТР" | J31: 43699122 | K31: літри | L31: 5320 | M31: 90.6 | N31: Дизельне паливо | O31: https://prozorro.gov.ua/tender/UA-2026-04-21-008277-a | P31: так
A32: 22 | B32: Виконавчий комітет Лиманської міської ради | C32: паливно-мастильні матеріали | D32: товар | E32: ДК 021:2015:09130000-9: Нафта і дистиляти | F32: 46223 | G32: 245.7 | H32: місцевий бюджет | I32: ТОВ "УКРПЕТРОЛЦЕНТР" | J32: 43699122 | K32: літри | L32: 3000 | M32: 82.5 | N32: дизельне паливо | O32: https://prozorro.gov.ua/tender/UA-2026-07-20-011093-a | P32: так
A33: 23 | B33: КП "Лиманський "Зеленбуд"" | C33: транспорт | D33: товар | E33: ДК 021:2015: 34350000-5 — Шини для транспортних засобів великої та малої тоннажності | F33: 46094 | G33: 285 | H33: місцевий бюджет | I33: ТОВ "АВТОШИНИ-ПРОЗОРО" | J33: 45504596 | K33: штуки | L33: 10 | M33: 28500 | N33: Шини для екскаватора-навантажувача JCB 4CX SITEMASTER | O33: https://prozorro.gov.ua/tender/UA-2026-03-13-008905-a | P33: так
A34: 24 | B34: Виконавчий комітет Новодонецької селищної ради | C34: цивільний захист | D34: товар | E34: ДК 021:2015: 03410000-7 Деревина | F34: 46073 | G34: 2575 | H34: місцевий бюджет | I34: ЧИЖ ЄЛИЗАВЕТА ГЕННАДІЇВНА | J34: 3288801386 | K34: куб. м | L34: 400 100 | M34: 5.15 | N34: Круглі лісоматеріали хвойних порід (L = 4-6 м, Ø 15-19 см) Круглі лісоматеріали хвойних порід (L = 4-6 м, Ø 20-24 см) | O34: UA-2026-02-20-011965-a | P34: так
A35: 25 | B35: Виконавчий комітет Новодонецької селищної ради | C35: паливно-мастильні матеріали | D35: товар | E35: ДК 021:2015: 09130000-9 Нафта і дистиляти | F35: 46166 | G35: 6999.933 | H35: обласний бюджет | I35: ТОВ «УКРПЕТРОЛЦЕНТР» | J35: 43699123 | K35: літри | L35: 76 252 | M35: 91.8 | N35: Дизельне паливо (Євро 5), ALL AZS, талон | O35: UA-2026-05-24-000256-a | P35: так
A36: 26 | B36: Управління житлово-комунального господарства Слов’янської міської військової адміністрації Краматорського району Донецької області | C36: цивільний захист | D36: товар | E36: ДК 021:2015: 44310000-6 Вироби з дроту | F36: 46052 | G36: 12764.64 | H36: місцевий бюджет | I36: ТОВ «СЛАВРЕСУРС ГРУП» | J36: 42700828 | K36: од. | L36: 4000 | M36: 3191.16 | N36: продукція виробничо-технічного призначення для заходів щодо охорони та оборони територій, критично важливих об'єктів інфраструктури, комунікацій та захисту населення Слов'янської територіальної громади - загородження колюче-ріжуче (спіральний бар’єр безпеки типу «Єгоза» 1100/7/2,8) | O36: https://prozorro.gov.ua/uk/tender/UA-2026-01-30-003641-a | P36: так
A37: 27 | B37: Управління житлово-комунального господарства Слов’янської міської військової адміністрації Краматорського району Донецької області | C37: цивільний захист | D37: товар | E37: ДК 021:2015: 03410000-7 Деревина | F37: 46059 | G37: 2030 | H37: місцевий бюджет | I37: ФОП Цимбалюк Тетяна Валентинівна | J37: 3012222007 | K37: куб. м | L37: 350 | M37: 5800 | N37: продукція для заходів щодо охорони та оборони територій, критично важливих об'єктів інфраструктури, комунікацій та захисту населення Слов'янської міської територіальної громади (лісоматеріали круглі) | O37: https://prozorro.gov.ua/uk/tender/UA-2026-02-06-014611-a | P37: так
A38: 28 | B38: Управління житлово-комунального господарства Слов’янської міської військової адміністрації Краматорського району Донецької області | C38: цивільний захист | D38: товар | E38: ДК 021:2015: 03410000-7 Деревина | F38: 46059 | G38: 2028.6 | H38: місцевий бюджет | I38: ТОВ «ВЕСТВЕЙ» | J38: 38917808 | K38: куб. м | L38: 350 | M38: 5796 | N38: продукція для заходів щодо охорони та оборони територій, критично важливих об'єктів інфраструктури, комунікацій та захисту населення Слов'янської міської територіальної громади (лісоматеріали круглі) | O38: https://prozorro.gov.ua/uk/tender/UA-2026-02-06-014679-a | P38: так
A39: 29 | B39: Управління житлово-комунального господарства Слов’янської міської військової адміністрації Краматорського району Донецької області | C39: цивільний захист | D39: товар | E39: ДК 021:2015: 35730000-0 Електронні бойові комплекси та засоби радіоелектронного захисту | F39: 46059 | G39: 442.5 | H39: місцевий бюджет | I39: ТОВ "ЕВЕЛІ ГРУП" | J39: 38080606 | K39: од. | L39: 15 | M39: 29500 | N39: придбання безпілотних систем та засобів радіоелектронної боротьби (детектор дронів ДЗИҐА 4-х діапазонний) | O39: https://prozorro.gov.ua/uk/tender/UA-2026-02-09-009029-a | P39: так
A40: 30 | B40: Управління житлово-комунального господарства Слов’янської міської військової адміністрації Краматорського району Донецької області | C40: цивільний захист | D40: товар | E40: ДК 021:2015: 44310000-6 Вироби з дроту | F40: 46059 | G40: 1499.945 | H40: місцевий бюджет | I40: ФОП Василенко Андрій Сергійович | J40: 3056010911 | K40: кг | L40: 26086 | M40: 57.5 | N40: продукція виробничо-технічного призначення для заходів щодо охорони та оборони території, критично важливих об'єктів інфраструктури, комунікацій та захисту населення Слов'янської міської територіальної громади – придбання металопродукції (Дріт-чорна сталь не оцинкований 4 мм.) | O40: https://prozorro.gov.ua/uk/tender/UA-2026-02-07-000024-a | P40: так
A41: 31 | B41: Управління житлово-комунального господарства Слов’янської міської військової адміністрації Краматорського району Донецької області | C41: цивільний захист | D41: товар | E41: ДК 021:2015: 39540000-9 Вироби різні з канату, мотузки, шпагату та сітки | F41: 46059 | G41: 5600 | H41: місцевий бюджет | I41: ФОП Небесний Ю.Л. | J41: 3141801618 | K41: куб. м | L41: 1400000 | M41: 4 | N41: продукція виробничо-технічного призначення для заходів щодо охорони та оборони території, критично важливих об'єктів інфраструктури, комунікацій та захисту населення Слов'янської міської територіальної громади – придбання сітки полімерної 150*170 мм | O41: https://prozorro.gov.ua/uk/tender/UA-2026-02-09-008825-a | P41: так
A42: 32 | B42: Управління житлово-комунального господарства Слов’янської міської військової адміністрації Краматорського району Донецької області | C42: цивільний захист | D42: товар | E42: ДК 021:2015: 44320000-9 Кабелі та супутня продукція | F42: 46059 | G42: 540 | H42: місцевий бюджет | I42: ФОП Василенко Андрій Сергійович | J42: 3056010911 | K42: од. | L42: 2700000 | M42: 0.2 | N42: продукція виробничо-технічного призначення для заходів щодо охорони та оборони території, критично важливих об'єктів інфраструктури, комунікацій та захисту населення Слов'янської міської територіальної громади – придбання стяжки кабельної 3*100 | O42: https://prozorro.gov.ua/uk/tender/UA-2026-02-09-008622-a | P42: так
A43: 33 | B43: Управління житлово-комунального господарства Слов’янської міської військової адміністрації Краматорського району Донецької області | C43: цивільний захист | D43: товар | E43: ДК 021:2015: 35730000-0 Електронні бойові комплекси та засоби радіоелектронного захисту | F43: 46059 | G43: 1365 | H43: місцевий бюджет | I43: ФОП Євтушенко Святослав Ігорович | J43: 2889407493 | K43: од. | L43: 3 | M43: 455000 | N43: засоби радіоелектронної боротьби «Бульба 1/16 «Автобокс» | O43: https://prozorro.gov.ua/uk/tender/UA-2026-02-09-009183-a | P43: так
A44: 34 | B44: Управління житлово-комунального господарства Слов’янської міської військової адміністрації Краматорського району Донецької області | C44: цивільний захист | D44: товар | E44: ДК 021:2015: 39540000-9 Вироби різні з канату, мотузки, шпагату та сітки | F44: 46077 | G44: 256 | H44: місцевий бюджет | I44: ФОП МІРОШНІЧЕНКО СЕРГІЙ ВОЛОДИМИРОВИЧ | J44: 2638803434 | K44: погонний метр | L44: 100000 | M44: 2.56 | N44: продукція виробничо-технічного призначення для заходів щодо охорони та оборони території, критично важливих об'єктів інфраструктури, комунікацій та захисту населення Слов'янської міської територіальної громади – шнур поліпропіленовий Ø 4,5 мм | O44: https://prozorro.gov.ua/uk/tender/UA-2026-02-24-011135-a | P44: так
A45: 35 | B45: Управління житлово-комунального господарства Слов’янської міської військової адміністрації Краматорського району Донецької області | C45: цивільний захист | D45: товар | E45: ДК 021:2015: 44310000-6 Вироби з дроту | F45: 46079 | G45: 1375.055 | H45: місцевий бюджет | I45: ФОП ВАСИЛЕНКО АНДРІЙ СЕРГІЙОВИЧ | J45: 3056010911 | K45: кг | L45: 23914 | M45: 57.5 | N45: продукція виробничо-технічного призначення для заходів щодо охорони та оборони території, критично важливих об'єктів інфраструктури, комунікацій та захисту населення Слов'янської міської територіальної громади – придбання металопродукції (Дріт-чорна сталь не оцинкований 4 мм. | O45: https://prozorro.gov.ua/uk/tender/UA-2026-02-26-006516-a | P45: так
A46: 36 | B46: Управління житлово-комунального господарства Слов’янської міської військової адміністрації Краматорського району Донецької області | C46: цивільний захист | D46: товар | E46: ДК 021:2015: 03410000-7 Деревина | F46: 46080 | G46: 2030 | H46: місцевий бюджет | I46: ФОП ЦИМБАЛЮК ТЕТЯНА ВАЛЕНТИНІВНА | J46: 3012222007 | K46: куб. м | L46: 350 | M46: 5800 | N46: продукція для заходів щодо охорони та оборони територій, критично важливих об'єктів інфраструктури, комунікацій та захисту населення Слов'янської міської територіальної громади (лісоматеріали круглі) | O46: https://prozorro.gov.ua/uk/tender/UA-2026-02-27-009268-a | P46: так
A47: 37 | B47: Управління житлово-комунального господарства Слов’янської міської військової адміністрації Краматорського району Донецької області | C47: цивільний захист | D47: товар | E47: ДК 021:2015: 39540000-9 Вироби різні з канату, мотузки, шпагату та сітки | F47: 46084 | G47: 2000 | H47: місцевий бюджет | I47: ФОП ВАСИЛЕНКО АНДРІЙ СЕРГІЙОВИЧ | J47: 3056010911 | K47: куб. м | L47: 5000000 | M47: 4 | N47: продукція виробничо-технічного призначення для заходів щодо охорони та оборони території, критично важливих об'єктів інфраструктури, комунікацій та захисту населення Слов'янської міської територіальної громади – придбання сітки полімерної 150*170 мм | O47: https://prozorro.gov.ua/uk/tender/UA-2026-03-03-002047-a | P47: так
A48: 38 | B48: Управління житлово-комунального господарства Слов’янської міської військової адміністрації Краматорського району Донецької області | C48: цивільний захист | D48: товар | E48: ДК 021:2015: 39540000-9 Вироби різні з канату, мотузки, шпагату та сітки | F48: 46084 | G48: 3600 | H48: місцевий бюджет | I48: ФОП ЧІВІКОВ Д.Ю. | J48: 3541606157 | K48: куб. м | L48: 900000 | M48: 4 | N48: продукція виробничо-технічного призначення для заходів щодо охорони та оборони території, критично важливих об'єктів інфраструктури, комунікацій та захисту населення Слов'янської міської територіальної громади – придбання сітки полімерної 150*170 мм | O48: https://prozorro.gov.ua/uk/tender/UA-2026-03-03-001881-a | P48: так
... A53: 43 | B53: Управління житлово-комунального господарства Слов’янської міської військової адміністрації Краматорського району Донецької області | C53: цивільний захист | D53: товар | E53: ДК021:2015:44160000-9-Магістралі, трубопроводи, труби, обсадні труби, тюбінги та супутні вироби | F53: 46120 | G53: 409.5 | H53: місцевий бюджет | I53: ФОП СМАРАКОВА ВІКТОРІЯ ВІКТОРІВНА | J53: 3060200728 | K53: метри | L53: 3000 | M53: 136.5 | N53: продукція для виконання заходів із захисту (у тому числі об'єктів критичної інфраструктури) та оборони території громади/області, інших невідкладних дій у період дії воєнного стану (придбання матеріальних цінностей:труб профільних 40*40*2мм 6 м) | O53: https://prozorro.gov.ua/uk/tender/UA-2026-04-08-009217-a | P53: так
A54: 44 | B54: Управління житлово-комунального господарства Слов’янської міської військової адміністрації Краматорського району Донецької області | C54: цивільний захист | D54: товар | E54: ДК021:2015:44160000-9-Магістралі, трубопроводи, труби, обсадні труби, тюбінги та супутні вироби | F54: 46120 | G54: 253.5 | H54: місцевий бюджет | I54: ФОП ЧІВІКОВ Д.Ю. | J54: 3541606157 | K54: метри | L54: 3000 | M54: 84.5 | N54: продукція для виконання заходів із захисту (у тому числі об'єктів критичної інфраструктури) та оборони території громади/області, інших невідкладних дій у період дії воєнного стану (придбання матеріальних цінностей: труб профільних 30*20*2мм 6 м) | O54: https://prozorro.gov.ua/uk/tender/UA-2026-04-08-009683-a | P54: так
A55: 45 | B55: Управління житлово-комунального господарства Слов’янської міської військової адміністрації Краматорського району Донецької області | C55: цивільний захист | D55: товар | E55: ДК 021:2015: 14210000-6 Гравій, пісок, щебінь і наповнювачі | F55: 46120 | G55: 710.8 | H55: місцевий бюджет | I55: ФОП ВАСИЛЕНКО АНДРІЙ СЕРГІЙОВИЧ | J55: 3056010911 | K55: тонна | L55: 910 | M55: 781.1 | N55: продукція для виконання заходів із захисту (у тому числі об'єктів критичної інфраструктури) та оборони території громади/області, інших невідкладних дій у період дії воєнного стану (придбання матеріальних цінностей:щебню (5-20 мм), щебню (20-40 мм), піску) | O55: https://prozorro.gov.ua/uk/tender/UA-2026-04-08-010196-a | P55: так
A56: 46 | B56: Управління житлово-комунального господарства Слов’янської міської військової адміністрації Краматорського району Донецької області | C56: цивільний захист | D56: товар | E56: ДК 021:2015: 14210000-6 Гравій, пісок, щебінь і наповнювачі | F56: 46120 | G56: 696 | H56: місцевий бюджет | I56: ФОП ВЛАСОВЕЦЬ СОФІЯ ЯРОСЛАВІВНА | J56: 3812403968 | K56: тонна | L56: 900 | M56: 773.33 | N56: продукція для виконання заходів із захисту (у тому числі об'єктів критичної інфраструктури) та оборони території громади/області, інших невідкладних дій у період дії воєнного стану (придбання матеріальних цінностей: щебню (20-40 мм), піску) | O56: https://prozorro.gov.ua/uk/tender/UA-2026-04-08-010744-a | P56: так
A57: 47 | B57: Управління житлово-комунального господарства Слов’янської міської військової адміністрації Краматорського району Донецької області | C57: цивільний захист | D57: товар | E57: ДК021:2015: 44160000-9 Магістралі, трубопроводи, труби, обсадні труби, тюбінги та супутні вироби | F57: 46120 | G57: 545.688 | H57: місцевий бюджет | I57: ФОП БЄЛЯЄВ СЕРГІЙ ІГОРОВИЧ | J57: 3289100455 | K57: метри | L57: 1590 | M57: 343.2 | N57: продукція для виконання заходів із захисту (у тому числі об'єктів критичної інфраструктури) та оборони території громади/області, інших невідкладних дій у період дії воєнного стану (придбання матеріальних цінностей:труб профільних 60*60*3мм) | O57: https://prozorro.gov.ua/uk/tender/UA-2026-04-08-011099-a | P57: так
A58: 48 | B58: Управління житлово-комунального господарства Слов’янської міської військової адміністрації Краматорського району Донецької області | C58: цивільний захист | D58: товар | E58: ДК021:2015: 44160000-9 Магістралі, трубопроводи, труби, обсадні труби, тюбінги та супутні вироби | F58: 46120 | G58: 413.67 | H58: місцевий бюджет | I58: ФОП Кононенко Наталія Миколаївна | J58: 2919504963 | K58: погонний метр | L58: 750 | M58: 551.56 | N58: продукція для виконання заходів із захисту (у тому числі об'єктів критичної інфраструктури) та оборони території громади/області, інших невідкладних дій у період дії воєнного стану (придбання матеріальних цінностей: труб 125мм) | O58: https://prozorro.gov.ua/uk/tender/UA-2026-04-08-011239-a | P58: так
A59: 49 | B59: Управління житлово-комунального господарства Слов’янської міської військової адміністрації Краматорського району Донецької області | C59: цивільний захист | D59: товар | E59: ДК 021:2015: 35730000-0 Електронні бойові комплекси та засоби радіоелектронного захисту | F59: 46129 | G59: 4550 | H59: місцевий бюджет | I59: ФОП Євтушенко Святослав Ігорович | J59: 2889407493 | K59: од. | L59: 10 | M59: 455000 | N59: продукція для виконання заходів із захисту (у тому числі об'єктів критичної інфраструктури) та оборони території громади/області, інших невідкладних дій у період дії воєнного стану (придбання засобів радіоелектронної боротьби «Бульба 1/16 «Автобокс») | O59: https://prozorro.gov.ua/uk/tender/UA-2026-04-17-008373-a | P59: так
A60: 50 | B60: Управління житлово-комунального господарства Слов’янської міської військової адміністрації Краматорського району Донецької області | C60: цивільний захист | D60: товар | E60: ДК 021:2015: 35730000-0 Електронні бойові комплекси та засоби радіоелектронного захисту | F60: 46140 | G60: 442.5 | H60: місцевий бюджет | I60: ТОВ "ПОЛІМЕРПРОГРЕС" | J60: 40967727 | K60: од. | L60: 15 | M60: 29 500,00 | N60: придбання засобів електронної підтримки радіоелектронної боротьби («Дзиґа» 4-х діапазонний) | O60: https://prozorro.gov.ua/uk/tender/UA-2026-04-28-007108-a | P60: так
A61: 51 | B61: Управління житлово-комунального господарства Слов’янської міської військової адміністрації Краматорського району Донецької області | C61: цивільний захист | D61: товар | E61: ДК 021:2015: 44310000-6 Вироби з дроту | F61: 46160 | G61: 5247 | H61: місцевий бюджет | I61: ТОВ "ІНДАСТРІАЛ МАРКЕТ" | J61: 45855611 | K61: кг | L61: 1500 | M61: 3498 | N61: товар для виконання заходів із захисту (у тому числі об'єктів критичної інфраструктури) та оборони території громади/області, інших невідкладних дій у період дії воєнного стану (облаштування інженерних загороджень) – Бар’єр безпеки спіральний колюче-ріжучий типу «Єгоза» (1100/7/2,8) | O61: https://prozorro.gov.ua/uk/tender/UA-2026-05-18-009175-a | P61: так
A62: 52 | B62: Управління житлово-комунального господарства Слов’янської міської військової адміністрації Краматорського району Донецької області | C62: цивільний захист | D62: товар | E62: ДК 021:2015: 44310000-6 Вироби з дроту | F62: 46160 | G62: 7185 | H62: місцевий бюджет | I62: ТОВ "БУДІНВЕСТ ТОРГ КОМПАНІ" | J62: 44429927 | K62: од. | L62: 1000 | M62: 7185 | N62: товар для виконання заходів із захисту (у тому числі об'єктів критичної інфраструктури) та оборони території громади/області, інших невідкладних дій у період дії воєнного стану (облаштування інженерних загороджень) – Перешкода малопомітна з дроту (типу МПП) (10х10х1,4) | O62: https://prozorro.gov.ua/uk/tender/UA-2026-05-18-009175-a | P62: так
A63: 53 | B63: Управління житлово-комунального господарства Слов’янської міської військової адміністрації Краматорського району Донецької області | C63: цивільний захист | D63: товар | E63: ДК 021:2015: 44310000-6 Вироби з дроту | F63: 46161 | G63: 529.98 | H63: місцевий бюджет | I63: ФОП Кононенко Наталія Миколаївна | J63: 2919504963 | K63: кг | L63: 8320 | M63: 63.7 | N63: товар для виконання заходів із захисту (у тому числі об'єктів критичної інфраструктури) та оборони території громади/області, інших невідкладних дій у період дії воєнного стану (облаштування антидронового захисту автомобільних доріг Слов’янської міської територіальної громади) – дріт (чорна сталь не оцинкований 4 мм.) | O63: https://prozorro.gov.ua/uk/tender/UA-2026-05-18-009175-a | P63: так
A64: 54 | B64: Управління житлово-комунального господарства Слов’янської міської військової адміністрації Краматорського району Донецької області | C64: цивільний захист | D64: товар | E64: ДК 021:2015: 44310000-6 Вироби з дроту | F64: 46161 | G64: 1044.87 | H64: місцевий бюджет | I64: ФОП ВЛАСОВЕЦЬ СОФІЯ ЯРОСЛАВІВНА | J64: 3812403968 | K64: кг | L64: 8330 850 | M64: 63,70 605,00 | N64: товар для виконання заходів із захисту (у тому числі об'єктів критичної інфраструктури) та оборони території громади/області, інших невідкладних дій у період дії воєнного стану (облаштування антидронового захисту автомобільних доріг Слов’янської міської територіальної громади) – дріт (чорна сталь не оцинкований 4 мм.) та електроди моноліт 3 (2,5кг) РЦ 46173 | O64: https://prozorro.gov.ua/uk/tender/UA-2026-05-18-009175-a | P64: так
A65: 55 | B65: Управління житлово-комунального господарства Слов’янської міської військової адміністрації Краматорського району Донецької області | C65: цивільний захист | D65: товар | E65: ДК 021:2015: 44310000-6 Вироби з дроту | F65: 46161 | G65: 584.145 | H65: місцевий бюджет | I65: ФОП СМАРАКОВА ВІКТОРІЯ ВІКТОРІВНА | J65: 3060200728 | K65: кг од. | L65: 8350 55 | M65: 63,70 950,00 | N65: товар для виконання заходів із захисту (у тому числі об'єктів критичної інфраструктури) та оборони території громади/області, інших невідкладних дій у період дії воєнного стану (облаштування антидронового захисту автомобільних доріг Слов’янської міської територіальної громади) – дріт (чорна сталь не оцинкований 4 мм.) та канільована сітка 50*50/2,5*1,5*4 мм, | O65: https://prozorro.gov.ua/uk/tender/UA-2026-05-18-009175-a | P65: так
A66: 56 | B66: Управління житлово-комунального господарства Слов’янської міської військової адміністрації Краматорського району Донецької області | C66: цивільний захист | D66: товар | E66: ДК 021:2015: 18140000-2 - Аксесуари до робочого одягу, за номеклатурою ДК 021:2015:18141000-9 - Робочі рукавиці | F66: 46161 | G66: 378 | H66: місцевий бюджет | I66: ФОП СМАРАКОВА ВІКТОРІЯ ВІКТОРІВНА | J66: 3060200728 | K66: од. | L66: 2000 | M66: 189 | N66: Товар для виконання заходів із захисту (у тому числі об'єктів критичної інфраструктури) та оборони території громади/області, інших невідкладних дій у період дії воєнного стану (облаштування антидронового захисту автомобільних доріг Слов’янської міської територіальної громади) – рукавичка замшева червона 35 см | O66: https://prozorro.gov.ua/uk/tender/UA-2026-05-18-009175-a | P66: так
A67: 57 | B67: Управління житлово-комунального господарства Слов’янської міської військової адміністрації Краматорського району Донецької області | C67: цивільний захист | D67: товар | E67: ДК 021:2015: 44330000-2 - Будівельні прути, стрижні, дроти та профілі | F67: 46161 | G67: 684 | H67: місцевий бюджет | I67: ФОП Кононенко Наталія Миколаївна | J67: 2919504963 | K67: метри | L67: 3000 | M67: 228 | N67: Товар для виконання заходів із захисту (у тому числі об'єктів критичної інфраструктури) та оборони території громади/області, інших невідкладних дій у період дії воєнного стану (облаштування антидронового захисту автомобільних доріг Слов’янської міської територіальної громади) – труба 60*60*2 | O67: https://prozorro.gov.ua/uk/tender/UA-2026-05-18-009175-a | P67: так
A68: 58 | B68: Управління житлово-комунального господарства Слов’янської міської військової адміністрації Краматорського району Донецької області | C68: цивільний захист | D68: товар | E68: ДК 021:2015: 44330000-2 - Будівельні прути, стрижні, дроти та профілі | F68: 46161 | G68: 684 | H68: місцевий бюджет | I68: ФОП СМАРАКОВА ВІКТОРІЯ ВІКТОРІВНА | J68: 3060200728 | K68: метри | L68: 3000 | M68: 228 | N68: товар для виконання заходів із захисту (у тому числі об'єктів критичної інфраструктури) та оборони території громади/області, інших невідкладних дій у період дії воєнного стану (облаштування антидронового захисту автомобільних доріг Слов’янської міської територіальної громади) – труба 60*60*2 | O68: https://prozorro.gov.ua/uk/tender/UA-2026-05-18-009175-a | P68: так
A69: 59 | B69: Управління житлово-комунального господарства Слов’янської міської військової адміністрації Краматорського району Донецької області | C69: цивільний захист | D69: товар | E69: ДК 021:2015: 44330000-2 - Будівельні прути, стрижні, дроти та профілі | F69: 46161 | G69: 651 | H69: місцевий бюджет | I69: ФОП ВЛАСОВЕЦЬ СОФІЯ ЯРОСЛАВІВНА | J69: 3812403968 | K69: метри | L69: 1400 | M69: 465 | N69: товар для виконання заходів із захисту (у тому числі об'єктів критичної інфраструктури) та оборони території громади/області, інших невідкладних дій у період дії воєнного стану (облаштування антидронового захисту автомобільних доріг Слов’янської міської територіальної громади) – труба 80*80*3 | O69: https://prozorro.gov.ua/uk/tender/UA-2026-05-18-009175-a | P69: так
A70: 60 | B70: Управління житлово-комунального господарства Слов’янської міської військової адміністрації Краматорського району Донецької області | C70: цивільний захист | D70: товар | E70: ДК 021:2015: 44310000-6 Вироби з дроту | F70: 46209 | G70: 612.75 | H70: місцевий бюджет | I70: ФОП Євтушенко Святослав Ігорович | J70: 2889407493 | K70: кг | L70: 9500 | M70: 64.5 | N70: товар для забезпечення інженерно-технічних заходів із захисту об’єктів критичної інфраструктури (автомобільних доріг) для безпечного переміщення транспортних засобів та населення в період воєнного стану – облаштування, ремонт, антидронового захисту автомобільних доріг Слов’янської міської територіальної громади (дріт - чорна сталь не оцинкований 4 мм.) | O70: https://prozorro.gov.ua/uk/tender/UA-2026-07-06-010759-a | P70: так
A71: 61 | B71: Управління житлово-комунального господарства Слов’янської міської військової адміністрації Краматорського району Донецької області | C71: цивільний захист | D71: товар | E71: ДК 021:2015: 44310000-6 Вироби з дроту | F71: 46209 | G71: 999.75 | H71: місцевий бюджет | I71: ФОП СМАРАКОВА ВІКТОРІЯ ВІКТОРІВНА | J71: 3060200728 | K71: кг | L71: 15500 | M71: 64.5 | N71: товар для забезпечення інженерно-технічних заходів із захисту об’єктів критичної інфраструктури (автомобільних доріг) для безпечного переміщення транспортних засобів та населення в період воєнного стану – облаштування, ремонт, антидронового захисту автомобільних доріг Слов’янської міської територіальної громади (дріт - чорна сталь не оцинкований 4 мм.) | O71: https://prozorro.gov.ua/uk/tender/UA-2026-07-06-010763-a | P71: так
A72: 62 | B72: КП "Благоустрій" | C72: благоустрій | D72: послуга | E72: ДК 021:2015: 45520000-8 Прокат обладнання з оператором для виконання земляних робіт | F72: 46203 | G72: 800 | H72: місцевий бюджет | I72: ТОВ "БУДІВЕЛЬНА ФІРМА БУДІНВЕСТАЛЬЯНС" | J72: 42481278 | K72: послуга | L72: 1 | N72: послуги із залучення спеціальної техніки з оператором для виконання невідкладних робіт оборонного характеру, створення та укріплення захисних рубежів на території Слов'янської міської території громади та Донецької області | O72: https://zakupivli.pro/gov/tenders/UA-2026-06-30-012085-a | P72: так
A73: 63 | B73: Управління житлово-комунального господарства Слов’янської міської військової адміністрації Краматорського району Донецької області | C73: цивільний захист | D73: послуга | E73: ДК 021:2015: 45340000-2 - Зведення огорож, монтаж поручнів і захисних засобів, за кодом НК 018:2023-2112 Вулиці та інші дороги. | F73: 46213 | G73: 2912.977 | H73: місцевий бюджет | I73: КП "Слов'янське тролейбусне управління" Слов'янської міської ради | J73: 33244567 | N73: послуги з забезпечення інженерно-технічними заходами із захисту об’єктів критичної інфраструктури для безпечного переміщення транспортних засобів та населення в період воєнного стану – облаштування антидронового захисту автомобільних доріг Слов’янської міської територіальної громади | O73: https://prozorro.gov.ua/uk/tender/UA-2026-07-10-006905-a | P73: так
A74: 64 | B74: Управління житлово-комунального господарства Слов’янської міської військової адміністрації Краматорського району Донецької області | C74: цивільний захист | D74: товар | E74: ДК 021:2015: 44110000-4 Конструкційні матеріали | F74: 46238 | G74: 253.899 | H74: місцевий бюджет | I74: ФОП БЄЛЯЄВ СЕРГІЙ ІГОРОВИЧ | J74: 3289100455 | K74: од. | L74: плита 33, кільце 33 | M74: 3227,35 4466,55 | N74: товар для виконання заходів із запобігання виникненню надзвичайних ситуацій в умовах воєнного стану (придбання матеріальних цінностей для облаштування систем альтернативного водопостачання – плита перекриття колодязя ПП 116/116/15, кільце колодязне КС 10.9) | O74: https://prozorro.gov.ua/uk/tender/UA-2026-08-08-000275-a | P74: так
A75: 65 | B75: Управління житлово-комунального господарства Слов’янської міської військової адміністрації Краматорського району Донецької області | C75: цивільний захист | D75: товар | E75: ДК 021:2015: 42120000-6 – Насоси та компресори, за номенклатурою ДК 021:2015 42124000-4 Частини насосів або компресорів | F75: 46240 | G75: 273.51 | H75: місцевий бюджет | I75: ФОП СМАРАКОВА ВІКТОРІЯ ВІКТОРІВНА | J75: 3060200728 | K75: од. | L75: насос 30, кріплення 30, підвіс 30 | M75: 4560 1911,00 2646,00 | N75: товар для виконання заходів із запобігання виникненню надзвичайних ситуацій в умовах воєнного стану (придбання матеріальних цінностей для облаштування систем альтернативного водопостачання – насос у приямок (нержавіюча сталь), кріплення для насоса, підвіс (гойдалка) для насоса) | O75: https://prozorro.gov.ua/uk/tender/UA-2026-08-08-000313-a | P75: так
A76: 66 | B76: КП БКП ПМР | C76: транспорт | D76: послуга | E76: 50110000-9–Послуги з ремонту і технічного обслуговування мототранспортних засобів і супутнього обладнання | F76: 46064 | G76: 1882.885 | H76: місцевий бюджет | I76: ТОВ «АЙС-ТРАК ЛОГИСТИК» | J76: 45090513 | O76: https://prozorro.gov.ua/uk/tender/UA-2026-02-16-007006-a | P76: так
A77: 67 | B77: КП БКП ПМР | C77: паливно-мастильні матеріали | D77: товар | E77: 09130000-9 — Нафта і дистиляти | F77: 46094 | G77: 2273.695 | H77: місцевий бюджет | I77: ТОВ "ДРАЙВ ПЕТРОЛ" | J77: 44520690 | K77: літри | L77: 3000 26770 | M77: 70,98 76,98 | N77: Бензин Дизельне паливо | O77: https://prozorro.gov.ua/uk/tender/UA-2026-03-13-008684-a | P77: так
A78: 68 | B78: КП БКП ПМР | C78: транспорт | D78: товар | E78: 34140000-0 Великовантажні мототранспортні засоби | F78: 46128 | G78: 3271.92 | H78: місцевий бюджет | I78: ТОВ "НПО НТ "БУДШЛЯХМАШ" | J78: 34049688 | K78: штуки | L78: 1 | N78: Бункер сміттєвоза (комплект сміттєвозного обладнання із заднім завантаженням) | O78: https://prozorro.gov.ua/tender/UA-2026-04-16-006935-a | P78: так
A79: 69 | B79: КП БКП ПМР | C79: паливно-мастильні матеріали | D79: товар | E79: 09130000-9 — Нафта і дистиляти | F79: 46150 | G79: 2727 | H79: місцевий бюджет | I79: ТОВ "Драйв петрол" | J79: 44520690 | K79: літри | L79: 3000 3000 | N79: Бензин А-95 Дизельне паливо | O79: https://prozorro.gov.ua/uk/tender/UA-2026-05-08-013340-a | P79: так
A80: 70 | B80: КП БКП ПМР | C80: транспорт | D80: послуга | E80: 50110000-9 — Послуги з ремонту і технічного обслуговування мототранспортних засобів і супутнього обладнання | F80: 46154 | G80: 272.986 | H80: місцевий бюджет | I80: ТОВ "Констракшн Машинері" | J80: 32828388 | O80: https://prozorro.gov.ua/uk/tender/UA-2026-05-12-001024-a | P80: так
A81: 71 | B81: Комунальне підприємство «Служба єдиного замовника» Авдіївської міської ради Покровського району Донецької області Код ЄДРПОУ: 32270664 | C81: транспорт | D81: послуга | E81: 50100000-6 - Послуги з ремонту, технічного обслуговування транспортних засобів і супутнього обладнання та супутні послуги | F81: 46150 | G81: 250.8 | H81: місцевий бюджет | I81: ТОВ «Констракшн Машинері» | J81: 32828388 | K81: послуга | L81: 1 | M81: 250800 | N81: Послуга технічного обслуговування та поточного ремонту - колісний екскаватор JS160W | O81: https://prozorro.gov.ua/uk/tender/UA-2026-05-08-005834-a | P81: так
A82: 72 | B82: КП "ДОБРОПІЛЬСЬКИЙ МІСЬКИЙ ТРАНСПОРТ" | C82: транспорт | D82: послуга | E82: ДК 021:2015: 50110000-9 — Послуги з ремонту і технічного обслуговування мототранспортних засобів і супутнього обладнання | F82: 46155 | G82: 299 | H82: місцевий бюджет | I82: ФОП Шуляк Олександр Васильович | J82: 305681667 | K82: послуга | L82: 1 | M82: 299000 | N82: Послуги з поточного ремонту і технічного обслуговування автомобіля: автокрану КМЗ 25-40 | O82: https://prozorro.gov.ua/uk/tender/UA-2026-05-13-004708-a | P82: так
A83: 73 | B83: Шахівська сільська рада | C83: господарська діяльність | D83: товар | E83: Комплект Delta Max Lite. зарядна станція DELTA Lite | F83: 46049 | G83: 234 | H83: місцевий бюджет | I83: ФОП Кравченко Р.В. | J83: 315522З555 | K83: штуки | L83: 1 4 | M83: 78000,00 39000,00 | N83: зарядна станція | O83: https://prozorro.gov.ua/uk/tender/UA-2026-01-29-017050-a | P83: так
A84: 74 | B84: Шахівська сільська рада | C84: цивільний захист | D84: товар | E84: Засіб радіоелектронної боротьби «Бульба 1/16 «Автобокс» (16 діапазонів) з системою автоматичного виявлення та включення Дрон-детектор «Свістун» код за ДК 021:2015 Єдиного закупівельного словника 35730000-0 Електронні бойові комплекси та засоби радіоелектронного захисту | F84: 46077 | G84: 455 | H84: місцевий бюджет | I84: ФОП Євтушенко С.І. | J84: 2889407493 | K84: штуки | L84: 1 | M84: 455000 | N84: РЕБ | O84: https://prozorro.gov.ua/uk/tender/UA-2026-02-24-010587-a | P84: так

Sheet Зведена
A1: Інформація про заплановані закупівлі робіт, послуг, товарів по територіальним громадам Донецької області
D2: станом на 27.08.2026
A3: № п/п | B3: Назва району, територіальної громади | C3: Кількість закупівель | D3: Запланована сума закупівлі, тис. грн
A4: 1 | B4: 2 | C4: 3 | D4: 4
B5: Донецька область | C5: =C6+C14+C23+C37+C43 -> 873 | D5: =D6+D14+D23+D37+D43 -> 1741085.5
B6: Бахмутський район | C6: =C7+C8+C10+C11+C12+C13+C9 -> 68 | D6: =D7+D8+D10+D11+D12+D13+D9 -> 53342.716
A7: 1 | B7: Бахмутська | C7: 21 | D7: =SUM('ТГ зв'!G13:G33) -> 9978.901
A8: 2 | B8: Званівська | C8: 4 | D8: =SUM('ТГ зв'!G35:G38) -> 1433.672
A9: 3 | B9: Світлодарська | C9: 1 | D9: =SUM('ТГ зв'!G40) -> 1266.76
A10: 4 | B10: Сіверська | C10: 13 | D10: =SUM('ТГ зв'!G42:G54) -> 11082.834
A11: 5 | B11: Соледарська | C11: 6 | D11: =SUM('ТГ зв'!G56:G61) -> 3378.118
A12: 6 | B12: Торецька | C12: 16 | D12: =SUM('ТГ зв'!G63:G78) -> 12906.731
A13: 7 | B13: Часовоярська | C13: 7 | D13: =SUM('ТГ зв'!G80:G86) -> 13295.7
B14: Волноваський район | C14: =C15+C18+C16+C17+C19+C20+C21+C22 -> 4 | D14: =D15+D18+D16+D17+D19+D20+D21+D22 -> 1437.84
A15: 8 | B15: Волноваська | C15: 0 | D15: 0
A16: 9 | B16: Великоновосілківська | C16: 1 | D16: =SUM('ТГ зв'!G90:G90) -> 207.2
A17: 10 | B17: Вугледарська | C17: 1 | D17: =SUM('ТГ зв'!G92) -> 200
A18: 11 | B18: Комарська | C18: 2 | D18: =SUM('ТГ зв'!G94:G95) -> 1030.64
A19: 12 | B19: Мирненська | C19: 0 | D19: 0
A20: 13 | B20: Ольгинська | C20: 0 | D20: 0
A21: 14 | B21: Старомлинівська | C21: 0 | D21: 0
A22: 15 | B22: Хлібодарівська | C22: 0 | D22: 0
B23: Краматорський район | C23: =C25+C27+C29+C30+C31+C34+C35+C32+C33+C36+C26+C28+C24 -> 586 | D23: =D25+D27+D29+D30+D31+D34+D35+D32+D33+D36+D26+D28+D24 -> 1071981.7
B24: Краматорська районна державна адміністрація Донецької обласі | C24: 2 | D24: =SUM('ТГ зв'!G102:G103) -> 665.054
A25: 16 | B25: Краматорська | C25: 318 | D25: =SUM('ТГ зв'!G105:G422) -> 632980.68
A26: 17 | B26: Андріївська | C26: 5 | D26: =SUM('ТГ зв'!G424:G428) -> 3407.144
A27: 18 | B27: Дружківська | C27: 47 | D27: =SUM('ТГ зв'!G430:G476) -> 45798.26
A28: 19 | B28: Іллінівська | C28: 1 | D28: =SUM('ТГ зв'!G478) -> 358.4
A29: 20 | B29: Костянтинівська | C29: 5 | D29: =SUM('ТГ зв'!G480:G484) -> 2252.418
A30: 21 | B30: Лиманська | C30: 15 | D30: =SUM('ТГ зв'!G486:G500) -> 6142.961
A31: 22 | B31: Миколаївська | C31: 9 | D31: =SUM('ТГ зв'!G502:G510) -> 7944.978
A32: 23 | B32: Новодонецька | C32: 16 | D32: =SUM('ТГ зв'!G512:G527) -> 21462.016
A33: 24 | B33: Олександрівська | C33: 29 | D33: =SUM('ТГ зв'!G529:G557) -> 87469.818
A34: 25 | B34: Святогірська | C34: 5 | D34: =SUM('ТГ зв'!G559:G563) -> 2045.741
A35: 26 | B35: Слов'янська | C35: 122 | D35: =SUM('ТГ зв'!G565:G686) -> 241289.24
A36: 27 | B36: Черкаська | C36: 12 | D36: =SUM('ТГ зв'!G688:G699) -> 20164.993
B37: Маріупольський район | C37: =C38+C41+C42+C40 -> 90 | D37: =D38+D41+D42+D40+D39 -> 483010.48
A38: 28 | B38: Маріупольська | C38: 87 | D38: =SUM('ТГ зв'!G702:G788) -> 482360.56
A39: 29 | B39: Кальчицька | C39: 0 | D39: 0
A40: 30 | B40: Мангушська | C40: 0 | D40: 0
A41: 31 | B41: Микильська | C41: 2 | D41: =SUM('ТГ зв'!G791:G792) -> 449.917
A42: 32 | B42: Сартанська | C42: 1 | D42: =SUM('ТГ зв'!G795) -> 200
B43: Покровський район | C43: =C45+C46+C47+C49+C51+C52+ C53+C54+C56+C48+C55+C57+C50+C58+C44 -> 125 | D43: =D45+D46+D47+D49+D51+D52+ D53+D54+D56+D48+D55+D57+D50+D58+D44 -> 131312.79
B44: Покровська районна державна адміністрація Донецької області | C44: 2 | D44: =SUM('ТГ зв'!G798:G799) -> 600
A45: 33 | B45: Покровська | C45: 28 | D45: =SUM('ТГ зв'!G801:G828) -> 23781.815
A46: 34 | B46: Авдіївська | C46: 7 | D46: =SUM('ТГ зв'!G830:G836) -> 2991.304
A47: 35 | B47: Білозерська | C47: 1 | D47: =SUM('ТГ зв'!G838:G838) -> 465.78
A48: 36 | B48: Гродівська | C48: 2 | D48: =SUM('ТГ зв'!G840:G841) -> 611.2
A49: 37 | B49: Добропільська | C49: 17 | D49: =SUM('ТГ зв'!G843:G859) -> 16589.796
A50: 38 | B50: Криворізька | C50: 4 | D50: =SUM('ТГ зв'!G861:G864) -> 6492.763
A51: 39 | B51: Курахівська | C51: 7 | D51: =SUM('ТГ зв'!G866:G872) -> 4630.266
A52: 40 | B52: Мар'їнська | C52: 1 | D52: =SUM('ТГ зв'!G874) -> 300.8
A53: 41 | B53: Мирноградська | C53: 6 | D53: =SUM('ТГ зв'!G876:G881) -> 12099.806
A54: 42 | B54: Новогродівська | C54: 3 | D54: =SUM('ТГ зв'!G883:G885) -> 1250.33
A55: 43 | B55: Очеретинська | C55: 0 | D55: 0
A56: 44 | B56: Селидівська | C56: 34 | D56: =SUM('ТГ зв'!G888:G921) -> 56174.373
A57: 45 | B57: Удачненська | C57: 1 | D57: =SUM('ТГ зв'!G923:G923) -> 348
A58: 46 | B58: Шахівська | C58: 12 | D58: =SUM('ТГ зв'!G925:G936) -> 4976.557
