Workbook

Sheet ТГ зв
H1: Додаток 2
H2: до листа департаменту економіки облдержадміністрації
H3: від_______№__________
A4: Інформація про заплановані закупівлі робіт, послуг, товарів по територіальним громадам Донецької області
H5: станом на 27.08.2026
A6: № п/п | B6: Назва району, територіальної громади Замовник | C6: Напрямок використання коштів | D6: Вид закупівлі (робота, послуга, товар) | E6: Предмет закупівлі | F6: Дата планового оголошення | G6: Запланована сума закупівлі, | H6: Джерело фінансування закупівлі | I6: Плануємий постачальник (за наявності) | J6: Код ЄДРПОУ постачальника | K6: Інформація щодо товару | O6: Посилання на закупівлю в електронній системі | P6: Закупівлі на оборонні роботи, так
K7: Одиниця виміру (штуки, тонни, кілограми, куб. м, пог. м тощо) | L7: Кількість | M7: Вартість за одиницю з урахуванням ПДВ, грн | N7: Короткий опис товару
E8: (назва, код) | G8: тис. грн
A9: 1 | B9: 2 | C9: 3 | D9: 4 | E9: 5 | F9: 6 | G9: 7 | H9: 8 | I9: 9 | J9: 10 | K9: 11 | L9: 12 | M9: 13 | N9: 14 | O9: 15 | P9: 16
B10: Донецька область | G10: =SUM(G13:G936) -> 1741085.5
B11: Бахмутський район
B12: Бахмутська
A13: 1 | B13: КНП "Бахмутська лікарня інтенсивного лікування м.Бахмут" | C13: охорона здоров'я | D13: послуга | E13: ДК 021:2015: 90520000-8 — Послуги у сфері поводження з радіоактивними, токсичними, медичними та небезпечними відходами | F13: 46029 | G13: 322.2 | H13: НСЗУ | I13: ТОВ "НВК "УКРЕКОПРОМ" | J13: 39624900 | K13: кг | L13: 6430 | N13: Послуги у сфері поводження з радіоактивними, токсичними, медичними та небезпечними відходами | O13: https://zakupivli.pro/gov/tenders/ua-2026-01-07-004504-a/lot-a127d908e7b643c8b338ab6345bf50e8
A14: 2 | B14: КНП "Бахмутська лікарня інтенсивного лікування м.Бахмут" | C14: охорона здоров'я | D14: товар | E14: ДК 021:2015 «33600000-6 - Фармацевтична продукція» (Наркотичні та психотропні препарати) | F14: 46030 | G14: 305 | H14: НСЗУ | I14: ДКП "Фармація" | J14: 1976625 | K14: ампули | L14: 2260 | N14: Промедол розчин для ін'єкцій, морфін, розчин для ін`єкцій, фентаніл, розчин для ін'єкцій, діазепам, розчин для ін`єкцій | O14: https://zakupivli.pro/gov/tenders/ua-2026-01-08-004985-a
A15: 3 | B15: КНП "Бахмутська лікарня інтенсивного лікування м.Бахмут" | C15: паливно-мастильні матеріали | D15: товар | E15: ДК 021:2015 код 09130000-9: Нафта і дистиляти (Дизельне паливо талони) | F15: 46031 | G15: 274.5 | H15: НСЗУ | I15: ПП "ОККО-СЕРВІС" | J15: 44838860 | K15: літри | L15: 5000 | N15: Дизельне паливо талони | O15: https://zakupivli.pro/gov/tenders/ua-2026-01-09-006232-a
A16: 4 | B16: КНП "Бахмутська лікарня інтенсивного лікування м.Бахмут" | C16: охорона здоров'я | D16: товар | E16: ДК 021:2015:33600000-6 - "Фармацевтична продукція" | F16: 46034 | G16: 1886.539 | H16: НСЗУ | I16: ТОВ "МВК ФАРМ" | J16: 44990084 | K16: штуки | L16: 38640 | N16: Пропофол, емульсія, суксаметоній, розчин для ін'єкцій, лідокаїн, розчин для ін`єкцій, дексаметазон,розчин для ін'єкцій, спирт етиловий, еноксапарин натрію, натрію хлорид, декскетопрофен розчин для ін'єкцій, вода для ін'єкцій, інше | O16: https://zakupivli.pro/gov/tenders/ua-2026-01-12-004767-a
A17: 5 | B17: КНП "Бахмутська лікарня інтенсивного лікування м.Бахмут" | C17: охорона здоров'я | D17: товар | E17: ДК 021:2015: 33600000-6 Фармацевтична продукція | F17: 46042 | G17: 709.731 | H17: НСЗУ | I17: ТОВ "АТ-ФАРМА" | J17: 42210926 | K17: штуки | L17: 7600 | N17: Гозерелін, бікалутамід, летрозол, ібандронова кислота | O17: https://zakupivli.pro/gov/tenders/ua-2026-01-20-010523-a
A18: 6 | B18: КНП "Бахмутська лікарня інтенсивного лікування м.Бахмут" | C18: охорона здоров'я | D18: товар | E18: ДК 021:2015: 33140000-3 Медичні матеріали | F18: 46045 | G18: 248.347 | H18: НСЗУ | I18: ТОВ «ЄВРО СТАНДАРТГРУП» | J18: 45954309 | K18: штуки | L18: 10250 | N18: Серветка медична марлева стерильна, бинт марлевий, відріз марлевий, бинт фіксуючий, пластир стерильний, пластир нестерильний | O18: https://zakupivli.pro/gov/tenders/ua-2026-01-23-001958-a
A19: 7 | B19: КНП "Бахмутська лікарня інтенсивного лікування м.Бахмут" | C19: охорона здоров'я | D19: товар | E19: ДК 021:2015: 33140000-3 Медичні матеріали | F19: 46045 | G19: 297.2 | H19: НСЗУ | I19: ФОП Багрій Антон Євгенович | J19: 3241909818 | K19: штуки | L19: 12050 | N19: Комплект покриття хірургічний, катетер внутрішньовенний, шпатель отоларингологічний, маска киснева, маски медичні, сільфон, набір гінекологічний | O19: https://zakupivli.pro/gov/tenders/ua-2026-01-23-001293-a
A20: 8 | B20: КНП "Бахмутська лікарня інтенсивного лікування м.Бахмут" | C20: охорона здоров'я | D20: товар | E20: ДК 021:2015: 33190000-8 Медичне обладнання та вироби медичного призначення різні | F20: 46045 | G20: 453.894 | H20: НСЗУ | I20: ТОВ «ЄВРО СТАНДАРТГРУП» | J20: 45954309 | K20: штуки | L20: 31250 | N20: Система ПК (трансфузійна), системи для переливання крові та інфузійних розчинів, система ПК (інфузійна), халат хірургічний | O20: https://zakupivli.pro/gov/tenders/ua-2026-01-23-015042-a
A21: 9 | B21: КНП "Бахмутська лікарня інтенсивного лікування м.Бахмут" | C21: охорона здоров'я | D21: товар | E21: ДК 021:2015: 33140000-3 Медичні матеріали (Медичні матеріали нехімічні та гематологічні одноразового застосування | F21: 46045 | G21: 244.09 | H21: НСЗУ | I21: ФОП ТРОФИМЕНКО ЛАРИСА ГРИГОРІВНА | J21: 2374265941 | K21: штуки | L21: 75330 | N21: Бахіли медичні, шапочка медична, подовжувач для інфузійних насосів, пробірка вакуумна | O21: https://zakupivli.pro/gov/tenders/ua-2026-01-23-016460-a
A22: 10 | B22: КНП "Бахмутська лікарня інтенсивного лікування м.Бахмут" | C22: охорона здоров'я | D22: товар | E22: ДК 021:2015: 33140000-3 Медичні матеріали | F22: 46045 | G22: 214.5 | H22: НСЗУ | I22: ТОВ "СТЕЛАР МЕД" (договір на суму 191,316 тис.грн) | J22: 45379379 | K22: пари | L22: 44900 | N22: Рукавички медичні хірургічні | O22: https://zakupivli.pro/gov/tenders/ua-2026-01-23-017266-a
A23: 11 | B23: КНП "Бахмутська лікарня інтенсивного лікування м.Бахмут" | C23: охорона здоров'я | D23: товар | E23: ДК 021:2015: 33600000-6 — Фармацевтична продукція | F23: 46062 | G23: 577.886 | H23: НСЗУ | I23: ФОП "МЕЛЬНИК ТЕТЯНА ВОЛОДИМИРІВНА" | J23: 2586900647 | K23: паковання, набір, флакон | L23: 323 | N23: АПТЧ-тест, тромбо-тест, ПЧ-тест, фібриноген-тест, РФ - латекс-тест, калій СпЛ 100, хлориди СпЛ 120, кальцій СпЛ 100, натрій СпЛ 50, креатинін-кін.СпЛ 500, сечовина СпЛ 300, холестерин СпЛ 500, сечова кислота СпЛ 100 та інше | O23: https://zakupivli.pro/gov/tenders/ua-2026-02-09-008065-a
A24: 12 | B24: КНП "Бахмутська лікарня інтенсивного лікування м.Бахмут" | C24: охорона здоров'я | D24: товар | E24: ДК 021:2015: 33140000-3 Медичні матеріали | F24: 46064 | G24: 480.054 | H24: НСЗУ | I24: ФОП Якубовський Сергій Володимирович | J24: 2655102017 | K24: штуки | L24: 2429 | N24: Нитка хірургічна стерильна з голкою, нитка хірургічна стерильна без голки | O24: https://zakupivli.pro/gov/tenders/ua-2026-02-11-012470-a
... A26: 14 | B26: КНП "Бахмутська лікарня інтенсивного лікування м.Бахмут" | C26: охорона здоров'я | D26: товар | E26: ДК 021:2015: 33600000-6 Фармацевтична продукція | F26: 46092 | G26: 236.179 | H26: НСЗУ | I26: ТОВ "АФАРМА" | J26: 45354329 | K26: контейнер, паковання | L26: 1550 | N26: Глюкози розчин для інфузій 5 %, декскетопрофен розчин для ін'єкцій, цефтриаксон,порошок для ін'єкцій, анти-D імуноглобулін людини, еноксапарин натрію, севофлуран розчин для інгаляцій | O26: https://zakupivli.pro/gov/tenders/ua-2026-03-11-002919-a
A27: 15 | B27: Бахмутська міська рада | C27: господарська діяльність | D27: товар | E27: ДК 021: 2015:31430000-9 Електричні акумулятори | F27: 46094 | G27: 240.3 | H27: місцевий бюджет | I27: ТОВ «КУБІК ГРУП» | J27: 44554976 | K27: штуки | L27: 9 | M27: 26700 | N27: зарядні станції | O27: https://zakupivli.pro/gov/tenders/ua-2026-03-13-007134-a
A28: 16 | B28: Управління соціального захисту населення Бахмутської міської ради | C28: оздоровлення | D28: послуга | E28: Послуги з відпочинку дітей в дитячих закладах оздоровлення та відпочинку, що містяться в Державному реєстрі майнових об’єктів оздоровлення та відпочинку дітей код за ДК 021:2015 - 55240000-4 — Послуги центрів і будинків відпочинку | F28: 46132 | G28: 1344 | H28: місцевий бюджет | I28: ТОВ "ДИТЯЧИЙ ЗАКЛАД САНАТОРНОГО ТИПУ "ДРІМ КЕМП "КАРПАТИ" | J28: 45345623 | K28: послуга | L28: 50 | M28: 26880 | N28: Послуги з відпочинку дітей в дитячих закладах оздоровлення та відпочинку | O28: https://prozorro.gov.ua/uk/tender/UA-2026-04-20-007184-a
A29: 17 | B29: КНП "Бахмутська лікарня інтенсивного лікування м.Бахмут" | C29: охорона здоров'я | D29: товар | E29: ДК 021:2015:33600000-6 "Фармацевтична продукція" (Наркотичні та психотропні препарати) | F29: 46195 | G29: 329.086 | H29: НСЗУ | I29: ДКП "Фармація" | J29: 1976625 | K29: штуки | L29: 2720 | N29: Лікарські засоби для лікування хвороб нервової системи та захворювань органів чуття (діазепам, розчин для ін`єкцій, фентаніл, розчин для ін'єкцій, морфін, розчин для ін`єкцій) | O29: https://zakupivli.pro/gov/tenders/ua-2026-06-22-007384-a
A30: 18 | B30: КНП "Бахмутська лікарня інтенсивного лікування м.Бахмут" | C30: охорона здоров'я | D30: товар | E30: ДК 021:2015:33600000-6 - "Фармацевтична продукція" (Лікарські засоби) | F30: 46202 | G30: 498.095 | H30: НСЗУ, власні кошти | I30: ТОВ "МВК ФАРМ" | J30: 44990084 | K30: штуки | L30: 6427 | N30: Лікарські засоби (дексаметазон,розчин для ін'єкцій, парацетамол розчин для інфузій, декскетопрофен розчин для ін'єкцій, атропіну сульфат розчин для ін'єкцій, транексамова кислота розчин для ін'єкцій, омепразол, глюкози розчин для інфузій, цефепім, хлоргексидин, натрію хлорид та інше) | O30: https://zakupivli.pro/gov/tenders/ua-2026-06-29-001416-a
A31: 19 | B31: Управління соціального захисту населення Бахмутської міської ради | C31: оздоровлення | D31: послуга | E31: Послуги з відпочинку дітей в дитячих закладах оздоровлення та відпочинку, що містяться в Державному реєстрі майнових об’єктів оздоровлення та відпочинку дітей код за ДК 021:2015 - 55240000-4 — Послуги центрів і будинків відпочинку | F31: 46232 | G31: 548.8 | H31: місцевий бюджет | I31: ТОВ "АГРОТРАНСГРУПА" | J31: 43247653 | K31: послуга | L31: 20 | M31: 27440 | N31: Послуги з відпочинку дітей в дитячих закладах оздоровлення та відпочинку | O31: UA-2026-07-29-008450-a
A32: 20 | B32: КНП "БЛІЛ м. Бахмут" | C32: послуги з харчування | D32: послуга | E32: ДК 021:2015: 55520000-1 Кейтерингові послуги (послуги з постачання готової їжі /продукції для харчування пацієнтів) | F32: 46237 | G32: 250 | H32: НСЗУ | I32: ПП КАФЕ "ВІКТОР" | J32: 35115431 | K32: послуга | L32: 1000 | M32: 250 | N32: Послуги по забезпеченню харчуванням стаціонарних хворих, які перебувають у відділенні Комунального некомерційного підприємства «Багатопрофільна лікарня інтенсивного лікування м.Бахмут» | O32: https://zakupivli.pro/gov/tenders/ua-2026-08-20-007897-a
A33: 21 | B33: КНП "БЛІЛ м. Бахмут" | C33: охорона здоров'я | D33: товар | E33: ДК 021:2015: 33160000-9 «Устаткування для операційних блоків» (Набір стерильних трубок для помпи; Оптоволоконний кабель, набір) | F33: 46254 | G33: 204.5 | H33: НСЗУ | K33: штуки | L33: 21 | N33: Набір стерильних трубок для помпи, оптоволоконний кабель, набір | O33: https://zakupivli.pro/gov/tenders/ua-2026-08-20-002667-a/lot-62dddeaf58854591a16e8b112b9fcad0
B34: Званівська
A35: 1 | B35: Званівська сільська рада | C35: паливно-мастильні матеріали | D35: товар | E35: ДК 021:2015: 09130000-9 Нафта і дистиляти | F35: 46055 | G35: 360 | H35: місцевий бюджет | I35: ТОВ «Укрпетролцентр» | J35: 43699122 | K35: послуга | L35: 6000 | M35: 60 | N35: Дизельне паливо | O35: https://prozorro.gov.ua/tender/UA-2026-02-02-006506-a | P35: так
A36: 2 | B36: Званівська сільська рада | C36: транспорт | D36: послуга | E36: ДК 021:2015 - 50110000-9 Послуги з поточного ремонту і технічного обслуговування мототранспортних засобів і супутнього обладнання | F36: 46063 | G36: 470.672 | H36: місцевий бюджет | I36: ТОВ "СТАНДАРТ СТРОЙ МИР" | J36: 43607466 | K36: послуга | L36: 44 | N36: Послуги з поточного ремонту і технічного обслуговування мототранспортних засобів і супутнього обладнання | O36: https://prozorro.gov.ua/tender/UA-2026-02-10-004213-a | P36: так
A37: 3 | B37: Званівська сільська рада | C37: паливно-мастильні матеріали | D37: товар | E37: ДК 021:2015: 09130000-9 Нафта і дистиляти | F37: 46133 | G37: 295 | H37: місцевий бюджет | I37: ТОВ "Маршал-Кард" | J37: 44793228 | K37: літри | L37: 3450 | M37: 85.5 | N37: Дизельне паливо | O37: https://prozorro.gov.ua/tender/UA-2026-04-21-007201-a | P37: так
A38: 4 | B38: Званівська сільська рада | C38: паливно-мастильні матеріали | D38: товар | E38: ДК 021:2015: 09130000-9 Нафта і дистиляти | F38: 46231 | G38: 308 | H38: місцевий бюджет | I38: ТОВ «Укрпетролцентр». | J38: 43699122 | K38: літри | L38: 3500 | M38: 87.66 | N38: Дизельне паливо | O38: https://prozorro.gov.ua/tender/UA-2026-07-28-005841-a | P38: так
B39: Світлодарська
A40: 1 | B40: Світлодарська міська військова адміністрація Бахмутського району Донецької області | C40: оздоровлення | D40: послуга | E40: 55240000-4 — Послуги центрів і будинків відпочинку | F40: 46126 | G40: 1266.76 | H40: місцевий бюджет | I40: ТОВ "АГРОТРАНСГРУПА" | J40: 43247653 | K40: послуга | L40: 40 | M40: 31.5 | N40: Послуги з оздоровлення і відпочинку дітей, які потребують особливої уваги та підтримки в дитячих закладах, що містяться в Державному реєстрі майнових об’єктів оздоровлення та відпочинку дітей, розташованих в Закарпатській області, в населених пунктах, яким відповідно до Закону України “Про статус гірських населених пунктів в Україні” надається статус гірських (путівки) | O40: https://prozorro.gov.ua/uk/plan/UA-P-2026-04-14-000486-a
B41: Сіверська
...

Sheet На оборонні закупівлі
H1: Додаток 2
H2: до листа департаменту економіки облдержадміністрації
H3: від_______№__________
A4: Інформація про заплановані закупівлі робіт, послуг, товарів по територіальним громадам Донецької області
H5: станом на 27.08.2026
A6: № п/п | B6: Назва району, територіальної громади Замовник | C6: Напрямок використання коштів | D6: Вид закупівлі (робота, послуга, товар) | E6: Предмет закупівлі | F6: Дата планового оголошення | G6: Запланована сума закупівлі, | H6: Джерело фінансування закупівлі | I6: Плануємий постачальник (за наявності) | J6: Код ЄДРПОУ постачальника | K6: Інформація щодо товару | O6: Посилання на закупівлю в електронній системі | P6: Закупівлі на оборонні роботи, так
K7: Одиниця виміру (штуки, тонни, кілограми, куб. м, пог. м тощо) | L7: Кількість | M7: Вартість за одиницю з урахуванням ПДВ, грн | N7: Короткий опис товару
E8: (назва, код) | G8: тис. грн
A9: 1 | B9: 2 | C9: 3 | D9: 4 | E9: 5 | F9: 6 | G9: 7 | H9: 8 | I9: 9 | J9: 10 | K9: 11 | L9: 12 | M9: 13 | N9: 14 | O9: 15 | P9: 16
B10: ВСЬОГО - 74 | G10: =SUM(G11:G84) -> 132253.8
A11: 1 | B11: Званівська сільська рада | C11: паливно-мастильні матеріали | D11: товар | E11: ДК 021:2015: 09130000-9 Нафта і дистиляти | F11: 46055 | G11: 360 | H11: місцевий бюджет | I11: ТОВ «Укрпетролцентр» | J11: 43699122 | K11: послуга | L11: 6000 | M11: 60 | N11: Дизельне паливо | O11: https://prozorro.gov.ua/tender/UA-2026-02-02-006506-a | P11: так
A12: 2 | B12: Званівська сільська рада | C12: транспорт | D12: послуга | E12: ДК 021:2015 - 50110000-9 Послуги з поточного ремонту і технічного обслуговування мототранспортних засобів і супутнього обладнання | F12: 46063 | G12: 470.672 | H12: місцевий бюджет | I12: ТОВ "СТАНДАРТ СТРОЙ МИР" | J12: 43607466 | K12: послуга | L12: 44 | N12: Послуги з поточного ремонту і технічного обслуговування мототранспортних засобів і супутнього обладнання | O12: https://prozorro.gov.ua/tender/UA-2026-02-10-004213-a | P12: так
A13: 3 | B13: Званівська сільська рада | C13: паливно-мастильні матеріали | D13: товар | E13: ДК 021:2015: 09130000-9 Нафта і дистиляти | F13: 46133 | G13: 295 | H13: місцевий бюджет | I13: ТОВ "Маршал-Кард" | J13: 44793228 | K13: літри | L13: 3450 | M13: 85.5 | N13: Дизельне паливо | O13: https://prozorro.gov.ua/tender/UA-2026-04-21-007201-a | P13: так
A14: 4 | B14: Званівська сільська рада | C14: паливно-мастильні матеріали | D14: товар | E14: ДК 021:2015: 09130000-9 Нафта і дистиляти | F14: 46231 | G14: 308 | H14: місцевий бюджет | I14: ТОВ «Укрпетролцентр». | J14: 43699122 | K14: літри | L14: 3500 | M14: 87.66 | N14: Дизельне паливо | O14: https://prozorro.gov.ua/tender/UA-2026-07-28-005841-a | P14: так
A15: 5 | B15: СКП "Комунальник" 21948370 | C15: цивільний захист | D15: товар | E15: 35730000-0 "Електронні бойові комплекси та засоби радіоелектронного захисту" | F15: 46066 | G15: 800 | H15: місцевий бюджет | I15: ТОВ "ДронХаб" | J15: 45349240 | K15: штуки | L15: 2 | M15: 383700 | N15: Засоби РЕБ для Екскаватора JCB та Евакуатора | O15: https://prozorro.gov.ua/plan/UA-P-2026-02-13-000310-a | P15: так
A16: 6 | B16: Часовоярська міська рада | C16: транспорт | D16: товар | E16: Екскаватор одноківшевий самохідний колісний Hyundai R180W-9S ДК021:2015-43260000-3 "Механічні лопати, екскаватори та ковшові навантажувачі, гірнича техніка" | F16: 46101 | G16: 9594 | H16: місцевий бюджет | I16: ТОВ ТД "Альфатех" | J16: 37383046 | K16: штуки | L16: 1 | M16: 9594000 | N16: Екскаватор одноківшевий самохідний колісний Hyundai R180W-9S | O16: UA-2026-03-20-008630-a | P16: так
A17: 7 | B17: КП "Електромереж зовнішнього освітлення "Міськсвітло"" | C17: цивільний захист | D17: товар | E17: Дріт сталевий (за кодом ДК 021:2015-44330000-2 «Будівельні прути, стрижні, дроти та профілі») | F17: 46105 | G17: 1106.776 | H17: місцевий бюджет | I17: ТОВ "ДНІПРОМЕТИЗ ТАС" | J17: 5393145 | K17: тонна | L17: 23.69 | O17: https://prozorro.gov.ua/uk/tender/UA-2026-03-24-012310-a | P17: так
A18: 8 | B18: КП "Електромереж зовнішнього освітлення "Міськсвітло"" | C18: цивільний захист | D18: товар | E18: Сітка шпалерна (ДК 021-2015 за кодом 39540000-9 – «Вироби різні з канату, мотузки, шпагату та сітки») | F18: 46119 | G18: 283.5 | H18: місцевий бюджет | I18: ТОВ "ОДЕСПРОМПАК" | J18: 38437390 | K18: погонний метр | L18: 63000 | O18: https://prozorro.gov.ua/uk/tender/UA-2026-04-07-011771-a | P18: так
A19: 9 | B19: КП "Електромереж зовнішнього освітлення "Міськсвітло"" | C19: цивільний захист | D19: товар | E19: Дріт сталевий (за кодом ДК 021:2015-44330000-2 «Будівельні прути, стрижні, дроти та профілі») | F19: 46127 | G19: 959.244 | H19: місцевий бюджет | I19: ТОВ "ДНІПРОМЕТИЗ ТАС" | J19: 5393145 | K19: тонна | L19: 19.87 | O19: https://prozorro.gov.ua/uk/tender/UA-2026-04-15-010125-a | P19: так
A20: 10 | B20: КП "Електромереж зовнішнього освітлення "Міськсвітло"" | C20: цивільний захист | D20: товар | E20: Стяжка кабельна (ДК 021-2015 за кодом 44320000-9 – «Кабелі та супутня продукція») | F20: 46127 | G20: 311.539 | H20: місцевий бюджет | I20: ТОВ "СПЕЙР ПАТС" | J20: 45375820 | K20: паковання | L20: 21280 | O20: https://prozorro.gov.ua/uk/tender/UA-2026-04-15-009307-a | P20: так
A21: 11 | B21: КП "Електромереж зовнішнього освітлення "Міськсвітло"" | C21: цивільний захист | D21: товар | E21: Труба профільна (за кодом ДК 021:2015 – 44330000-2 «Будівельні прути, стрижні, дроти та профілі») | F21: 46132 | G21: 1590.863 | H21: місцевий бюджет | I21: ТОВ ТРУБНИЙ ЗАВОД "СЛАВСАНТ" | J21: 14338180 | K21: тонна | L21: 39.94 | O21: https://prozorro.gov.ua/uk/tender/UA-2026-04-20-008436-a | P21: так
A22: 12 | B22: КП «Краматорське трамвайно-тролейбусне управління» (КТТУ) | C22: паливно-мастильні матеріали | D22: товар | E22: Дизельне паливо (Євро 5) | F22: 46239 | G22: 2100 | H22: місцевий бюджет, власні кошти | I22: ТОВ "ЕНЕРГО ТЕХ АЛЬЯНС" | J22: 43851152 | K22: літри | L22: 20000 | O22: https://prozorro.gov.ua/uk/tender/UA-2026-08-05-012720-a | P22: так
A23: 13 | B23: КАТП 052810 | C23: паливно-мастильні матеріали | D23: товар | E23: Бензин А-95 (Євро 5) | F23: 46244 | G23: 1500 | H23: місцевий бюджет, власні кошти | I23: ТОВ "ЕНЕРГО ТЕХ АЛЬЯНС" | J23: 43851152 | L23: 20000 | O23: https://prozorro.gov.ua/uk/tender/UA-2026-08-10-007302-a | P23: так
A24: 14 | B24: КП ДРУАС | C24: цивільний захист | D24: товар | E24: Скоби будівельні з кованими кінцями (44530000-4 - Кріпильні деталі) | F24: 46134 | G24: 310 | H24: місцевий бюджет | I24: ФОП "ЗАПАРА ТАРАС ВОЛОДИМИРОВИЧ" | J24: 2986306537 | O24: https://prozorro.gov.ua/uk/tender/UA-2026-04-22-008727-a | P24: так
A25: 15 | B25: КП ДРУАС | C25: цивільний захист | D25: товар | E25: Шлак електропічний (14630000-6 Шлак, окалина, відходи та скрап чорних металів) | F25: 46213 | G25: 300 | H25: місцевий бюджет | I25: ТОВ "МЕТАЛЛ ПРОГРЕСС" | J25: 41841818 | O25: https://prozorro.gov.ua/uk/tender/UA-2026-07-10-010923-a | P25: так
A26: 16 | B26: КП "Міст" | C26: цивільний захист | D26: товар | E26: Дошка необрізна та ліс круглий (ДК 021:20215 03410000-7 Деревина) | F26: 46031 | G26: 9994.4 | H26: місцевий бюджет | I26: ТОВ "ФАВОРИТТОРГБУД" | J26: 40964506 | K26: куб. м | L26: 1527 | O26: https://prozorro.gov.ua/uk/tender/UA-2026-01-09-008022-a | P26: так
A27: 17 | B27: КП "Міст" | C27: цивільний захист | D27: товар | E27: Cпіральний бар'єр безпеки по типу «Єгоза», діаметр 1100 мм, бухта 20-25 м, 2000 бухт(ДК 021:2015: 44310000-6: Вироби з дроту) | F27: 46056 | G27: 7000 | H27: місцевий бюджет | I27: ТОВ "БАВАРСЬКА БУДІВЕЛЬНА КОМПАНІЯ" | J27: 45559404 | K27: бухта | L27: 2000 | O27: https://prozorro.gov.ua/uk/tender/UA-2026-02-03-013548-a | P27: так
A28: 18 | B28: Комунальне підприємство "Іллінівської сільської ради Краматорського району Донецької області "Іллінівське" | C28: цивільний захист | D28: товар | E28: Бронежилет модульний "універсальний" 6 класу захисту, бронежилет модульний "універсальний" з показником протиуламкової стійкості V50 не менше 600м/с 1 класу захисту за ДСТУ | F28: 46177 | G28: 358.4 | H28: місцевий бюджет | I28: ТОВ "УКРТАК.ЮА" | J28: 44769530 | K28: комплект | L28: 12 | M28: 32 200,00 84 400,00 44 200,00 139 200,00 58 400,00 | N28: Бронежилет модульний "універсальний" 6 класу захисту, бронежилет модульний "універсальний" з показником протиуламкової стійкості V50 не менше 600м/с 1 класу захисту за ДСТУ | O28: https://prozorro.gov.ua/uk/tender/UA-2026-06-04-001769-a | P28: так
A29: 19 | B29: Костянтинівська міська військова адміністрація Краматорського району Донецької області | C29: цивільний захист | D29: товар | E29: ДК 021:2015: 35730000-0 — Електронні бойові комплекси та засоби радіоелектронного захисту | F29: 46062 | G29: 450 | H29: місцевий бюджет | I29: Кібенок Тетяна Ігорівна | J29: 3382112743 | K29: штуки | L29: 1 | M29: 450000 | N29: Система завади дронів (РЕБ) Raccoon Annihilator на 16 діапазонів (від 200 до 1100 мГц + від 1,1 до 5,8 гГц) | O29: UA-2026-02-09-014567-a | P29: так
A30: 20 | B30: Виконавчий комітет Лиманської міської ради | C30: паливно-мастильні матеріали | D30: товар | E30: ДК 021:2015:09130000-9: Нафта і дистиляти | F30: 46064 | G30: 600 | H30: місцевий бюджет | I30: ТОВ "УКРПЕТРОЛЦЕНТР" | J30: 43699122 | K30: літри | L30: 10000 | M30: 60 | N30: Дизельне паливо | O30: https://prozorro.gov.ua/tender/UA-2026-02-11-015570-a | P30: так
A31: 21 | B31: Виконавчий комітет Лиманської міської ради | C31: паливно-мастильні матеріали | D31: товар | E31: ДК 021:2015:09130000-9: Нафта і дистиляти | F31: 46133 | G31: 481.9 | H31: місцевий бюджет | I31: ТОВ "УКРПЕТРОЛЦЕНТР" | J31: 43699122 | K31: літри | L31: 5320 | M31: 90.6 | N31: Дизельне паливо | O31: https://prozorro.gov.ua/tender/UA-2026-04-21-008277-a | P31: так
A32: 22 | B32: Виконавчий комітет Лиманської міської ради | C32: паливно-мастильні матеріали | D32: товар | E32: ДК 021:2015:09130000-9: Нафта і дистиляти | F32: 46223 | G32: 245.7 | H32: місцевий бюджет | I32: ТОВ "УКРПЕТРОЛЦЕНТР" | J32: 43699122 | K32: літри | L32: 3000 | M32: 82.5 | N32: дизельне паливо | O32: https://prozorro.gov.ua/tender/UA-2026-07-20-011093-a | P32: так
A33: 23 | B33: КП "Лиманський "Зеленбуд"" | C33: транспорт | D33: товар | E33: ДК 021:2015: 34350000-5 — Шини для транспортних засобів великої та малої тоннажності | F33: 46094 | G33: 285 | H33: місцевий бюджет | I33: ТОВ "АВТОШИНИ-ПРОЗОРО" | J33: 45504596 | K33: штуки | L33: 10 | M33: 28500 | N33: Шини для екскаватора-навантажувача JCB 4CX SITEMASTER | O33: https://prozorro.gov.ua/tender/UA-2026-03-13-008905-a | P33: так
A34: 24 | B34: Виконавчий комітет Новодонецької селищної ради | C34: цивільний захист | D34: товар | E34: ДК 021:2015: 03410000-7 Деревина | F34: 46073 | G34: 2575 | H34: місцевий бюджет | I34: ЧИЖ ЄЛИЗАВЕТА ГЕННАДІЇВНА | J34: 3288801386 | K34: куб. м | L34: 400 100 | M34: 5.15 | N34: Круглі лісоматеріали хвойних порід (L = 4-6 м, Ø 15-19 см) Круглі лісоматеріали хвойних порід (L = 4-6 м, Ø 20-24 см) | O34: UA-2026-02-20-011965-a | P34: так
A35: 25 | B35: Виконавчий комітет Новодонецької селищної ради | C35: паливно-мастильні матеріали | D35: товар | E35: ДК 021:2015: 09130000-9 Нафта і дистиляти | F35: 46166 | G35: 6999.933 | H35: обласний бюджет | I35: ТОВ «УКРПЕТРОЛЦЕНТР» | J35: 43699123 | K35: літри | L35: 76 252 | M35: 91.8 | N35: Дизельне паливо (Євро 5), ALL AZS, талон | O35: UA-2026-05-24-000256-a | P35: так
A36: 26 | B36: Управління житлово-комунального господарства Слов’янської міської військової адміністрації Краматорського району Донецької області | C36: цивільний захист | D36: товар | E36: ДК 021:2015: 44310000-6 Вироби з дроту | F36: 46052 | G36: 12764.64 | H36: місцевий бюджет | I36: ТОВ «СЛАВРЕСУРС ГРУП» | J36: 42700828 | K36: од. | L36: 4000 | M36: 3191.16 | N36: продукція виробничо-технічного призначення для заходів щодо охорони та оборони територій, критично важливих об'єктів інфраструктури, комунікацій та захисту населення Слов'янської територіальної громади - загородження колюче-ріжуче (спіральний бар’єр безпеки типу «Єгоза» 1100/7/2,8) | O36: https://prozorro.gov.ua/uk/tender/UA-2026-01-30-003641-a | P36: так
A37: 27 | B37: Управління житлово-комунального господарства Слов’янської міської військової адміністрації Краматорського району Донецької області | C37: цивільний захист | D37: товар | E37: ДК 021:2015: 03410000-7 Деревина | F37: 46059 | G37: 2030 | H37: місцевий бюджет | I37: ФОП Цимбалюк Тетяна Валентинівна | J37: 3012222007 | K37: куб. м | L37: 350 | M37: 5800 | N37: продукція для заходів щодо охорони та оборони територій, критично важливих об'єктів інфраструктури, комунікацій та захисту населення Слов'янської міської територіальної громади (лісоматеріали круглі) | O37: https://prozorro.gov.ua/uk/tender/UA-2026-02-06-014611-a | P37: так
A38: 28 | B38: Управління житлово-комунального господарства Слов’янської міської військової адміністрації Краматорського району Донецької області | C38: цивільний захист | D38: товар | E38: ДК 021:2015: 03410000-7 Деревина | F38: 46059 | G38: 2028.6 | H38: місцевий бюджет | I38: ТОВ «ВЕСТВЕЙ» | J38: 38917808 | K38: куб. м | L38: 350 | M38: 5796 | N38: продукція для заходів щодо охорони та оборони територій, критично важливих об'єктів інфраструктури, комунікацій та захисту населення Слов'янської міської територіальної громади (лісоматеріали круглі) | O38: https://prozorro.gov.ua/uk/tender/UA-2026-02-06-014679-a | P38: так
A39: 29 | B39: Управління житлово-комунального господарства Слов’янської міської військової адміністрації Краматорського району Донецької області | C39: цивільний захист | D39: товар | E39: ДК 021:2015: 35730000-0 Електронні бойові комплекси та засоби радіоелектронного захисту | F39: 46059 | G39: 442.5 | H39: місцевий бюджет | I39: ТОВ "ЕВЕЛІ ГРУП" | J39: 38080606 | K39: од. | L39: 15 | M39: 29500 | N39: придбання безпілотних систем та засобів радіоелектронної боротьби (детектор дронів ДЗИҐА 4-х діапазонний) | O39: https://prozorro.gov.ua/uk/tender/UA-2026-02-09-009029-a | P39: так
A40: 30 | B40: Управління житлово-комунального господарства Слов’янської міської військової адміністрації Краматорського району Донецької області | C40: цивільний захист | D40: товар | E40: ДК 021:2015: 44310000-6 Вироби з дроту | F40: 46059 | G40: 1499.945 | H40: місцевий бюджет | I40: ФОП Василенко Андрій Сергійович | J40: 3056010911 | K40: кг | L40: 26086 | M40: 57.5 | N40: продукція виробничо-технічного призначення для заходів щодо охорони та оборони території, критично важливих об'єктів інфраструктури, комунікацій та захисту населення Слов'янської міської територіальної громади – придбання металопродукції (Дріт-чорна сталь не оцинкований 4 мм.) | O40: https://prozorro.gov.ua/uk/tender/UA-2026-02-07-000024-a | P40: так
...

Sheet Зведена
A1: Інформація про заплановані закупівлі робіт, послуг, товарів по територіальним громадам Донецької області
D2: станом на 27.08.2026
A3: № п/п | B3: Назва району, територіальної громади | C3: Кількість закупівель | D3: Запланована сума закупівлі, тис. грн
A4: 1 | B4: 2 | C4: 3 | D4: 4
B5: Донецька область | C5: =C6+C14+C23+C37+C43 -> 873 | D5: =D6+D14+D23+D37+D43 -> 1741085.5
B6: Бахмутський район | C6: =C7+C8+C10+C11+C12+C13+C9 -> 68 | D6: =D7+D8+D10+D11+D12+D13+D9 -> 53342.716
A7: 1 | B7: Бахмутська | C7: 21 | D7: =SUM('ТГ зв'!G13:G33) -> 9978.901
A8: 2 | B8: Званівська | C8: 4 | D8: =SUM('ТГ зв'!G35:G38) -> 1433.672
A9: 3 | B9: Світлодарська | C9: 1 | D9: =SUM('ТГ зв'!G40) -> 1266.76
A10: 4 | B10: Сіверська | C10: 13 | D10: =SUM('ТГ зв'!G42:G54) -> 11082.834
A11: 5 | B11: Соледарська | C11: 6 | D11: =SUM('ТГ зв'!G56:G61) -> 3378.118
A12: 6 | B12: Торецька | C12: 16 | D12: =SUM('ТГ зв'!G63:G78) -> 12906.731
A13: 7 | B13: Часовоярська | C13: 7 | D13: =SUM('ТГ зв'!G80:G86) -> 13295.7
B14: Волноваський район | C14: =C15+C18+C16+C17+C19+C20+C21+C22 -> 4 | D14: =D15+D18+D16+D17+D19+D20+D21+D22 -> 1437.84
A15: 8 | B15: Волноваська | C15: 0 | D15: 0
A16: 9 | B16: Великоновосілківська | C16: 1 | D16: =SUM('ТГ зв'!G90:G90) -> 207.2
A17: 10 | B17: Вугледарська | C17: 1 | D17: =SUM('ТГ зв'!G92) -> 200
A18: 11 | B18: Комарська | C18: 2 | D18: =SUM('ТГ зв'!G94:G95) -> 1030.64
A19: 12 | B19: Мирненська | C19: 0 | D19: 0
A20: 13 | B20: Ольгинська | C20: 0 | D20: 0
A21: 14 | B21: Старомлинівська | C21: 0 | D21: 0
A22: 15 | B22: Хлібодарівська | C22: 0 | D22: 0
B23: Краматорський район | C23: =C25+C27+C29+C30+C31+C34+C35+C32+C33+C36+C26+C28+C24 -> 586 | D23: =D25+D27+D29+D30+D31+D34+D35+D32+D33+D36+D26+D28+D24 -> 1071981.7
B24: Краматорська районна державна адміністрація Донецької обласі | C24: 2 | D24: =SUM('ТГ зв'!G102:G103) -> 665.054
A25: 16 | B25: Краматорська | C25: 318 | D25: =SUM('ТГ зв'!G105:G422) -> 632980.68
A26: 17 | B26: Андріївська | C26: 5 | D26: =SUM('ТГ зв'!G424:G428) -> 3407.144
A27: 18 | B27: Дружківська | C27: 47 | D27: =SUM('ТГ зв'!G430:G476) -> 45798.26
A28: 19 | B28: Іллінівська | C28: 1 | D28: =SUM('ТГ зв'!G478) -> 358.4
A29: 20 | B29: Костянтинівська | C29: 5 | D29: =SUM('ТГ зв'!G480:G484) -> 2252.418
A30: 21 | B30: Лиманська | C30: 15 | D30: =SUM('ТГ зв'!G486:G500) -> 6142.961
A31: 22 | B31: Миколаївська | C31: 9 | D31: =SUM('ТГ зв'!G502:G510) -> 7944.978
A32: 23 | B32: Новодонецька | C32: 16 | D32: =SUM('ТГ зв'!G512:G527) -> 21462.016
A33: 24 | B33: Олександрівська | C33: 29 | D33: =SUM('ТГ зв'!G529:G557) -> 87469.818
A34: 25 | B34: Святогірська | C34: 5 | D34: =SUM('ТГ зв'!G559:G563) -> 2045.741
A35: 26 | B35: Слов'янська | C35: 122 | D35: =SUM('ТГ зв'!G565:G686) -> 241289.24
A36: 27 | B36: Черкаська | C36: 12 | D36: =SUM('ТГ зв'!G688:G699) -> 20164.993
B37: Маріупольський район | C37: =C38+C41+C42+C40 -> 90 | D37: =D38+D41+D42+D40+D39 -> 483010.48
A38: 28 | B38: Маріупольська | C38: 87 | D38: =SUM('ТГ зв'!G702:G788) -> 482360.56
A39: 29 | B39: Кальчицька | C39: 0 | D39: 0
A40: 30 | B40: Мангушська | C40: 0 | D40: 0
...
